
BEGIN:VCALENDAR
VERSION:2.0
PRODID:-//Oldemarkt een prachtige ontdekking - ECPv6.15.15//NONSGML v1.0//EN
CALSCALE:GREGORIAN
METHOD:PUBLISH
X-WR-CALNAME:Oldemarkt een prachtige ontdekking
X-ORIGINAL-URL:https://oldemarkt.info
X-WR-CALDESC:Evenementen voor Oldemarkt een prachtige ontdekking
REFRESH-INTERVAL;VALUE=DURATION:PT1H
X-Robots-Tag:noindex
X-PUBLISHED-TTL:PT1H
BEGIN:VTIMEZONE
TZID:Europe/Amsterdam
BEGIN:DAYLIGHT
TZOFFSETFROM:+0100
TZOFFSETTO:+0200
TZNAME:CEST
DTSTART:20180325T010000
END:DAYLIGHT
BEGIN:STANDARD
TZOFFSETFROM:+0200
TZOFFSETTO:+0100
TZNAME:CET
DTSTART:20181028T010000
END:STANDARD
BEGIN:DAYLIGHT
TZOFFSETFROM:+0100
TZOFFSETTO:+0200
TZNAME:CEST
DTSTART:20190331T010000
END:DAYLIGHT
BEGIN:STANDARD
TZOFFSETFROM:+0200
TZOFFSETTO:+0100
TZNAME:CET
DTSTART:20191027T010000
END:STANDARD
BEGIN:DAYLIGHT
TZOFFSETFROM:+0100
TZOFFSETTO:+0200
TZNAME:CEST
DTSTART:20200329T010000
END:DAYLIGHT
BEGIN:STANDARD
TZOFFSETFROM:+0200
TZOFFSETTO:+0100
TZNAME:CET
DTSTART:20201025T010000
END:STANDARD
END:VTIMEZONE
BEGIN:VEVENT
DTSTART;TZID=Europe/Amsterdam:20191105T121500
DTEND;TZID=Europe/Amsterdam:20191105T133000
DTSTAMP:20260425T042316
CREATED:20191014T184721Z
LAST-MODIFIED:20191014T184721Z
UID:4150-1572956100-1572960600@oldemarkt.info
SUMMARY:Maaltijd 40+ ers
DESCRIPTION:
URL:https://oldemarkt.info/event/maaltijd-40-ers-9/
LOCATION:De Landerijen\, De Weeren 1\, Oldemarkt\, Overijssel\, 8375 CD\, Nederland
END:VEVENT
BEGIN:VEVENT
DTSTART;TZID=Europe/Amsterdam:20191105T143000
DTEND;TZID=Europe/Amsterdam:20191105T170000
DTSTAMP:20260425T042316
CREATED:20191014T185402Z
LAST-MODIFIED:20191014T185402Z
UID:4161-1572964200-1572973200@oldemarkt.info
SUMMARY:Alles over smartphone fotografie
DESCRIPTION:
URL:https://oldemarkt.info/event/alles-over-smartphone-fotografie/
LOCATION:De Landerijen\, De Weeren 1\, Oldemarkt\, Overijssel\, 8375 CD\, Nederland
END:VEVENT
BEGIN:VEVENT
DTSTART;TZID=Europe/Amsterdam:20191105T200000
DTEND;TZID=Europe/Amsterdam:20191105T223000
DTSTAMP:20260425T042316
CREATED:20191014T184131Z
LAST-MODIFIED:20191014T184131Z
UID:4139-1572984000-1572993000@oldemarkt.info
SUMMARY:Klaverjassen
DESCRIPTION:
URL:https://oldemarkt.info/event/klaverjassen-3-2019-11-05/
LOCATION:De Landerijen\, De Weeren 1\, Oldemarkt\, Overijssel\, 8375 CD\, Nederland
END:VEVENT
END:VCALENDAR