
BEGIN:VCALENDAR
VERSION:2.0
PRODID:-//Oldemarkt een prachtige ontdekking - ECPv6.15.15//NONSGML v1.0//EN
CALSCALE:GREGORIAN
METHOD:PUBLISH
X-WR-CALNAME:Oldemarkt een prachtige ontdekking
X-ORIGINAL-URL:https://oldemarkt.info
X-WR-CALDESC:Evenementen voor Oldemarkt een prachtige ontdekking
REFRESH-INTERVAL;VALUE=DURATION:PT1H
X-Robots-Tag:noindex
X-PUBLISHED-TTL:PT1H
BEGIN:VTIMEZONE
TZID:Europe/Amsterdam
BEGIN:DAYLIGHT
TZOFFSETFROM:+0100
TZOFFSETTO:+0200
TZNAME:CEST
DTSTART:20190331T010000
END:DAYLIGHT
BEGIN:STANDARD
TZOFFSETFROM:+0200
TZOFFSETTO:+0100
TZNAME:CET
DTSTART:20191027T010000
END:STANDARD
BEGIN:DAYLIGHT
TZOFFSETFROM:+0100
TZOFFSETTO:+0200
TZNAME:CEST
DTSTART:20200329T010000
END:DAYLIGHT
BEGIN:STANDARD
TZOFFSETFROM:+0200
TZOFFSETTO:+0100
TZNAME:CET
DTSTART:20201025T010000
END:STANDARD
BEGIN:DAYLIGHT
TZOFFSETFROM:+0100
TZOFFSETTO:+0200
TZNAME:CEST
DTSTART:20210328T010000
END:DAYLIGHT
BEGIN:STANDARD
TZOFFSETFROM:+0200
TZOFFSETTO:+0100
TZNAME:CET
DTSTART:20211031T010000
END:STANDARD
END:VTIMEZONE
BEGIN:VEVENT
DTSTART;TZID=Europe/Amsterdam:20200330T200000
DTEND;TZID=Europe/Amsterdam:20200330T220000
DTSTAMP:20260423T125105
CREATED:20190923T131701Z
LAST-MODIFIED:20190923T131701Z
UID:4089-1585598400-1585605600@oldemarkt.info
SUMMARY:Migrantenvrouwen. M.m.v. eigen leden.
DESCRIPTION:Plaats:  ”De Ontmoeting”\, Marktplein 9\, 8375 AZ Oldemarkt. Aanvang: 20.00 uur. \nInlichtingen bij: Vrouwkje Visserman-Winters\,  telefoon 0561-451933 \nemail: vrouwkje.visserman@gmail.com
URL:https://oldemarkt.info/event/migrantenvrouwen-m-m-v-eigen-leden/
LOCATION:De Ontmoeting
END:VEVENT
END:VCALENDAR