
BEGIN:VCALENDAR
VERSION:2.0
PRODID:-//Oldemarkt een prachtige ontdekking - ECPv6.15.15//NONSGML v1.0//EN
CALSCALE:GREGORIAN
METHOD:PUBLISH
X-WR-CALNAME:Oldemarkt een prachtige ontdekking
X-ORIGINAL-URL:https://oldemarkt.info
X-WR-CALDESC:Evenementen voor Oldemarkt een prachtige ontdekking
REFRESH-INTERVAL;VALUE=DURATION:PT1H
X-Robots-Tag:noindex
X-PUBLISHED-TTL:PT1H
BEGIN:VTIMEZONE
TZID:Europe/Amsterdam
BEGIN:DAYLIGHT
TZOFFSETFROM:+0100
TZOFFSETTO:+0200
TZNAME:CEST
DTSTART:20220327T010000
END:DAYLIGHT
BEGIN:STANDARD
TZOFFSETFROM:+0200
TZOFFSETTO:+0100
TZNAME:CET
DTSTART:20221030T010000
END:STANDARD
BEGIN:DAYLIGHT
TZOFFSETFROM:+0100
TZOFFSETTO:+0200
TZNAME:CEST
DTSTART:20230326T010000
END:DAYLIGHT
BEGIN:STANDARD
TZOFFSETFROM:+0200
TZOFFSETTO:+0100
TZNAME:CET
DTSTART:20231029T010000
END:STANDARD
BEGIN:DAYLIGHT
TZOFFSETFROM:+0100
TZOFFSETTO:+0200
TZNAME:CEST
DTSTART:20240331T010000
END:DAYLIGHT
BEGIN:STANDARD
TZOFFSETFROM:+0200
TZOFFSETTO:+0100
TZNAME:CET
DTSTART:20241027T010000
END:STANDARD
BEGIN:DAYLIGHT
TZOFFSETFROM:+0100
TZOFFSETTO:+0200
TZNAME:CEST
DTSTART:20250330T010000
END:DAYLIGHT
BEGIN:STANDARD
TZOFFSETFROM:+0200
TZOFFSETTO:+0100
TZNAME:CET
DTSTART:20251026T010000
END:STANDARD
BEGIN:DAYLIGHT
TZOFFSETFROM:+0100
TZOFFSETTO:+0200
TZNAME:CEST
DTSTART:20260329T010000
END:DAYLIGHT
BEGIN:STANDARD
TZOFFSETFROM:+0200
TZOFFSETTO:+0100
TZNAME:CET
DTSTART:20261025T010000
END:STANDARD
BEGIN:DAYLIGHT
TZOFFSETFROM:+0100
TZOFFSETTO:+0200
TZNAME:CEST
DTSTART:20270328T010000
END:DAYLIGHT
BEGIN:STANDARD
TZOFFSETFROM:+0200
TZOFFSETTO:+0100
TZNAME:CET
DTSTART:20271031T010000
END:STANDARD
END:VTIMEZONE
BEGIN:VEVENT
DTSTART;TZID=Europe/Amsterdam:20230811T150000
DTEND;TZID=Europe/Amsterdam:20230811T220000
DTSTAMP:20260420T025459
CREATED:20230726T135033Z
LAST-MODIFIED:20230726T135033Z
UID:5610-1691766000-1691791200@oldemarkt.info
SUMMARY:Zomerbingo voor jong en oud!
DESCRIPTION:
URL:https://oldemarkt.info/event/zomerbingo-voor-jong-en-oud/
LOCATION:MFC Dalzicht
END:VEVENT
BEGIN:VEVENT
DTSTART;TZID=Europe/Amsterdam:20231027T193000
DTEND;TZID=Europe/Amsterdam:20231027T220000
DTSTAMP:20260420T025459
CREATED:20230910T125454Z
LAST-MODIFIED:20230910T125454Z
UID:5622-1698435000-1698444000@oldemarkt.info
SUMMARY:Vakantiebingo!
DESCRIPTION:
URL:https://oldemarkt.info/event/vakantiebingo/
LOCATION:MFC Dalzicht
ORGANIZER;CN="PBO":MAILTO:secretaris@oldemarkt.info
END:VEVENT
BEGIN:VEVENT
DTSTART;TZID=Europe/Amsterdam:20231216T103000
DTEND;TZID=Europe/Amsterdam:20231216T163000
DTSTAMP:20260420T025459
CREATED:20231105T125557Z
LAST-MODIFIED:20231105T125557Z
UID:5643-1702722600-1702744200@oldemarkt.info
SUMMARY:Kerstrondje Oldemarkt
DESCRIPTION:16 december 2023 van 10.30 – 16.30 uur in het gehele dorp. \n02-03 Flyer Kerstrondje 2023
URL:https://oldemarkt.info/event/kerstrondje-oldemarkt-3/
LOCATION:Oldemarkt
ORGANIZER;CN="PBO":MAILTO:secretaris@oldemarkt.info
END:VEVENT
BEGIN:VEVENT
DTSTART;TZID=Europe/Amsterdam:20231216T163000
DTEND;TZID=Europe/Amsterdam:20231216T180000
DTSTAMP:20260420T025459
CREATED:20231105T125657Z
LAST-MODIFIED:20231105T125657Z
UID:5646-1702744200-1702749600@oldemarkt.info
SUMMARY:Kerstrun Oldemarkt
DESCRIPTION:Ook op 16 december om 16.30 uur Kerstrun. Start Marktplein\, Oldemarkt.
URL:https://oldemarkt.info/event/kerstrun-oldemarkt/
LOCATION:Marktplein
END:VEVENT
BEGIN:VEVENT
DTSTART;TZID=Europe/Amsterdam:20240314T193000
DTEND;TZID=Europe/Amsterdam:20240314T220000
DTSTAMP:20260420T025459
CREATED:20240210T054021Z
LAST-MODIFIED:20240210T054110Z
UID:6172-1710444600-1710453600@oldemarkt.info
SUMMARY:Algemene Leden Vergadering
DESCRIPTION:
URL:https://oldemarkt.info/event/algemene-leden-vergadering-14-maart-2024/
LOCATION:MFC Dalzicht
ORGANIZER;CN="PBO":MAILTO:secretaris@oldemarkt.info
END:VEVENT
BEGIN:VEVENT
DTSTART;TZID=Europe/Amsterdam:20240412T190000
DTEND;TZID=Europe/Amsterdam:20240412T213000
DTSTAMP:20260420T025459
CREATED:20240302T135004Z
LAST-MODIFIED:20240302T135004Z
UID:6254-1712948400-1712957400@oldemarkt.info
SUMMARY:Voorjaarsbeurs
DESCRIPTION:
URL:https://oldemarkt.info/event/voorjaarsbeurs/
LOCATION:MFC Dalzicht
END:VEVENT
BEGIN:VEVENT
DTSTART;VALUE=DATE:20240427
DTEND;VALUE=DATE:20240428
DTSTAMP:20260420T025459
CREATED:20240126T070122Z
LAST-MODIFIED:20240426T054105Z
UID:6118-1714176000-1714262399@oldemarkt.info
SUMMARY:Programma Koningsdag
DESCRIPTION:Programma:\n08:45 uur: Reveille vanuit de muziektent op het marktplein\n10.00 uur – 12:00 uur: Traditioneel Hofconcert door Jeduthun en de Oldemarkter Fanfare bij Family\nHet Hof (Hoofdstraat 2)
URL:https://oldemarkt.info/event/koningsdag/
END:VEVENT
BEGIN:VEVENT
DTSTART;TZID=Europe/Amsterdam:20240427T100000
DTEND;TZID=Europe/Amsterdam:20240427T170000
DTSTAMP:20260420T025459
CREATED:20240417T090000Z
LAST-MODIFIED:20240417T090000Z
UID:6326-1714212000-1714237200@oldemarkt.info
SUMMARY:Viering Koningsdag in De Landerijen
DESCRIPTION:
URL:https://oldemarkt.info/event/viering-koningsdag-in-de-landerijen/
LOCATION:De Landerijen\, De Weeren 1\, Oldemarkt\, Overijssel\, 8375 CD\, Nederland
END:VEVENT
BEGIN:VEVENT
DTSTART;VALUE=DATE:20240509
DTEND;VALUE=DATE:20240510
DTSTAMP:20260420T025459
CREATED:20240108T102933Z
LAST-MODIFIED:20240108T102933Z
UID:6075-1715212800-1715299199@oldemarkt.info
SUMMARY:Lambertusmarkt
DESCRIPTION:
URL:https://oldemarkt.info/event/lambertusmarkt-4/
END:VEVENT
BEGIN:VEVENT
DTSTART;TZID=Europe/Amsterdam:20240511T093000
DTEND;TZID=Europe/Amsterdam:20240511T163000
DTSTAMP:20260420T025459
CREATED:20240408T151000Z
LAST-MODIFIED:20240411T110959Z
UID:6292-1715419800-1715445000@oldemarkt.info
SUMMARY:Schuurverkoop Oldemarkt
DESCRIPTION:Zaterdag 11 mei is er weer een schuurverkoop in Oldemarkt\, van 9.30 uur tot 16.30 uur. \nVanuit eigen schuur\, oprit of tuin kunnen die dag spullen verkocht worden\, van grasmaaier\, keukenspullen\, planten\, boeken tot kano’s\, van  bijzondere zolderschatten tot unieke schuurvondsten !\n“Hiervoor we zijn dus op zoek naar verkopende deelnemers”\, melden Andrea ter Horst en Marieke Pit  “Doe je mee met de schuurverkoop in Oldemarkt?  Aanmelden kan tot 20 april\, via de link op de Facebook pagina: https://www.facebook.com/schuurverkoopoldemarkt of mail naar schuurverkoopoldemarkt@gmail.com\, dan mailen wij een opgave link retour”. \nDe kosten voor de organisatie bedragen €3\,00. We verspreiden en maken posters en plattegrondjes met alle adressen erop\, delen berichten op Facebook\, maken mediaberichten en plaatsen het op diverse sites. Deelnemers nodigen we uit om op zaterdag 11 mei de Oldemarkter vlag uit te hangen\, een welkomstbord aan de weg te zetten zodat duidelijk is waar de koopjes te scoren zijn!” \n 
URL:https://oldemarkt.info/event/schuurverkoop-oldemarkt-5/
END:VEVENT
BEGIN:VEVENT
DTSTART;TZID=Europe/Amsterdam:20240526T093000
DTEND;TZID=Europe/Amsterdam:20240526T160000
DTSTAMP:20260420T025459
CREATED:20240525T100915Z
LAST-MODIFIED:20240525T110345Z
UID:6349-1716715800-1716739200@oldemarkt.info
SUMMARY:Openlucht dienst Hervormde kerk
DESCRIPTION:
URL:https://oldemarkt.info/event/openlucht-hervormde-kerk/
LOCATION:Marktplein
END:VEVENT
BEGIN:VEVENT
DTSTART;TZID=Europe/Amsterdam:20240527T080000
DTEND;TZID=Europe/Amsterdam:20240530T170000
DTSTAMP:20260420T025459
CREATED:20230601T100309Z
LAST-MODIFIED:20230601T100309Z
UID:5588-1716796800-1717088400@oldemarkt.info
SUMMARY:Avondvierdaagse Oldemarkt 2024
DESCRIPTION:In 2024 is deze van 27 t/m 30 mei. Ook voor een enkele avond mag er mee gewandeld worden.
URL:https://oldemarkt.info/event/avondvierdaagse-oldemarkt-2024/
LOCATION:MFC Dalzicht
END:VEVENT
BEGIN:VEVENT
DTSTART;VALUE=DATE:20240607
DTEND;VALUE=DATE:20240608
DTSTAMP:20260420T025459
CREATED:20240429T052556Z
LAST-MODIFIED:20240429T052556Z
UID:6340-1717718400-1717804799@oldemarkt.info
SUMMARY:STC Bosloop
DESCRIPTION:
URL:https://oldemarkt.info/event/stc-bosloop-2/
END:VEVENT
BEGIN:VEVENT
DTSTART;TZID=Europe/Amsterdam:20240615T200000
DTEND;TZID=Europe/Amsterdam:20240615T230000
DTSTAMP:20260420T025459
CREATED:20240403T100710Z
LAST-MODIFIED:20240403T100719Z
UID:6289-1718481600-1718492400@oldemarkt.info
SUMMARY:Korenconcert Hervormde Kerk
DESCRIPTION:Aanvang: 20.00 uur
URL:https://oldemarkt.info/event/korenconcert-hervormde-kerk/
LOCATION:Nederlandse Hervormde Kerk Oldemarkt
END:VEVENT
BEGIN:VEVENT
DTSTART;TZID=Europe/Amsterdam:20240617T163000
DTEND;TZID=Europe/Amsterdam:20240617T193000
DTSTAMP:20260420T025459
CREATED:20240604T123526Z
LAST-MODIFIED:20240604T123526Z
UID:6366-1718641800-1718652600@oldemarkt.info
SUMMARY:Inloopavond Stichting Wetland Wonen Groep
DESCRIPTION:
URL:https://oldemarkt.info/event/inloopavond-stichting-wetland-wonen-groep/
LOCATION:MFC Dalzicht
END:VEVENT
BEGIN:VEVENT
DTSTART;TZID=Europe/Amsterdam:20240623T160000
DTEND;TZID=Europe/Amsterdam:20240623T180000
DTSTAMP:20260420T025459
CREATED:20240525T101155Z
LAST-MODIFIED:20240525T110225Z
UID:6354-1719158400-1719165600@oldemarkt.info
SUMMARY:Openlucht dienst Hervormde kerk
DESCRIPTION:Op zondag 23 juni wordt een kerdienst gehouden op het Marktplein m.m.v. het Kidschoir Up4S uit Oeganda.\nhttps://www.up4s.nl/nl/wat-doen-wij/het-kinderkoor/ \nGastsprekers tijdens deze dienst zijn Elmer en Hannah uit Lissabon.
URL:https://oldemarkt.info/event/openlucht-hervormde-kerk-2/
LOCATION:Marktplein
END:VEVENT
BEGIN:VEVENT
DTSTART;TZID=Europe/Amsterdam:20240630T150000
DTEND;TZID=Europe/Amsterdam:20240630T180000
DTSTAMP:20260420T025459
CREATED:20240618T081411Z
LAST-MODIFIED:20240618T081411Z
UID:6396-1719759600-1719770400@oldemarkt.info
SUMMARY:Zomerconcert Jeduthun Oldemarkt
DESCRIPTION:Op zondag 30 juni om 15.00 uur spelen ze voor u op het Marktplein de meest uiteenlopende muziek.\nBij slecht weer zal het concert verplaatst worden naar de naastgelegen Hervormde Kerk. Jeduthun hoopt op een mooi concert! U komt toch ook?
URL:https://oldemarkt.info/event/zomerconcert-jeduthun-oldemarkt/
LOCATION:Marktplein
END:VEVENT
BEGIN:VEVENT
DTSTART;TZID=Europe/Amsterdam:20240704T203000
DTEND;TZID=Europe/Amsterdam:20240704T213000
DTSTAMP:20260420T025459
CREATED:20240609T035116Z
LAST-MODIFIED:20240609T035158Z
UID:6371-1720125000-1720128600@oldemarkt.info
SUMMARY:Openlucht concert Pop in de Kop
DESCRIPTION:
URL:https://oldemarkt.info/event/openlucht-concert-pop-in-de-kop/
LOCATION:Marktplein
END:VEVENT
BEGIN:VEVENT
DTSTART;TZID=Europe/Amsterdam:20241026T110000
DTEND;TZID=Europe/Amsterdam:20241026T170000
DTSTAMP:20260420T025459
CREATED:20241008T044512Z
LAST-MODIFIED:20241008T044704Z
UID:6458-1729940400-1729962000@oldemarkt.info
SUMMARY:Hobby en Cadeaubeurs Oldemarkt
DESCRIPTION:
URL:https://oldemarkt.info/event/hobby-en-cadeaubeurs-oldemarkt/
LOCATION:MFC Dalzicht
END:VEVENT
BEGIN:VEVENT
DTSTART;TZID=Europe/Amsterdam:20241027T110000
DTEND;TZID=Europe/Amsterdam:20241027T170000
DTSTAMP:20260420T025459
CREATED:20241008T044813Z
LAST-MODIFIED:20241008T044813Z
UID:6461-1730026800-1730048400@oldemarkt.info
SUMMARY:Hobby en Cadeaubeurs Oldemarkt
DESCRIPTION:
URL:https://oldemarkt.info/event/hobby-en-cadeaubeurs-oldemarkt-2/
LOCATION:MFC Dalzicht
END:VEVENT
BEGIN:VEVENT
DTSTART;TZID=Europe/Amsterdam:20250612T203000
DTEND;TZID=Europe/Amsterdam:20250612T213000
DTSTAMP:20260420T025459
CREATED:20250406T033235Z
LAST-MODIFIED:20250522T052436Z
UID:7231-1749760200-1749763800@oldemarkt.info
SUMMARY:Kooroptreden Pop in de Kop
DESCRIPTION:
URL:https://oldemarkt.info/event/kooroptreden-pop-in-de-kop/
LOCATION:Marktplein
END:VEVENT
BEGIN:VEVENT
DTSTART;TZID=Europe/Amsterdam:20250615T093000
DTEND;TZID=Europe/Amsterdam:20250615T120000
DTSTAMP:20260420T025459
CREATED:20250501T073918Z
LAST-MODIFIED:20250501T073918Z
UID:7285-1749979800-1749988800@oldemarkt.info
SUMMARY:Openlucht kerkdienst HGOP
DESCRIPTION:
URL:https://oldemarkt.info/event/openlucht-kerkdienst-hgop/
LOCATION:Marktplein
END:VEVENT
BEGIN:VEVENT
DTSTART;TZID=Europe/Amsterdam:20250615T093000
DTEND;TZID=Europe/Amsterdam:20250615T150000
DTSTAMP:20260420T025459
CREATED:20250520T132730Z
LAST-MODIFIED:20250520T132730Z
UID:7308-1749979800-1749999600@oldemarkt.info
SUMMARY:HGOP Zendingsdienst Marktplein
DESCRIPTION:
URL:https://oldemarkt.info/event/hgop-zendingsdienst-marktplein/
LOCATION:Marktplein
END:VEVENT
BEGIN:VEVENT
DTSTART;TZID=Europe/Amsterdam:20250718T203000
DTEND;TZID=Europe/Amsterdam:20250718T203000
DTSTAMP:20260420T025459
CREATED:20250606T052616Z
LAST-MODIFIED:20250607T051803Z
UID:7328-1752870600-1752870600@oldemarkt.info
SUMMARY:Meenthe Op Locatie
DESCRIPTION:
URL:https://oldemarkt.info/event/meenthe-op-locatie/
END:VEVENT
BEGIN:VEVENT
DTSTART;TZID=Europe/Amsterdam:20250911T090000
DTEND;TZID=Europe/Amsterdam:20250913T170000
DTSTAMP:20260420T025459
CREATED:20250716T075053Z
LAST-MODIFIED:20250716T075053Z
UID:7393-1757581200-1757782800@oldemarkt.info
SUMMARY:Oldemarkter Dorpsfeest
DESCRIPTION:
URL:https://oldemarkt.info/event/oldemarkter-dorpsfeest/
LOCATION:Evenemententerrein
END:VEVENT
BEGIN:VEVENT
DTSTART;TZID=Europe/Amsterdam:20251008T200000
DTEND;TZID=Europe/Amsterdam:20251008T220000
DTSTAMP:20260420T025459
CREATED:20250919T141355Z
LAST-MODIFIED:20250919T141355Z
UID:7423-1759953600-1759960800@oldemarkt.info
SUMMARY:Bestuursvergadering PBO
DESCRIPTION:8 oktober volgende bestuursvergadering met mogelijkheid om uw vragen en mededelingen graag vooraf even aanmelden ivm planning. secretaris@oldemarkt.info
URL:https://oldemarkt.info/event/bestuursvergadering-pbo/
LOCATION:MFC Dalzicht
ORGANIZER;CN="PBO":MAILTO:secretaris@oldemarkt.info
END:VEVENT
BEGIN:VEVENT
DTSTART;TZID=Europe/Amsterdam:20251111T190000
DTEND;TZID=Europe/Amsterdam:20251111T190000
DTSTAMP:20260420T025459
CREATED:20250919T141602Z
LAST-MODIFIED:20250919T141602Z
UID:7425-1762887600-1762887600@oldemarkt.info
SUMMARY:Sint Maarten
DESCRIPTION:
URL:https://oldemarkt.info/event/sint-maarten-2/
LOCATION:Marktplein
ORGANIZER;CN="PBO":MAILTO:secretaris@oldemarkt.info
END:VEVENT
BEGIN:VEVENT
DTSTART;TZID=Europe/Amsterdam:20251122T120000
DTEND;TZID=Europe/Amsterdam:20251122T130000
DTSTAMP:20260420T025459
CREATED:20250919T141733Z
LAST-MODIFIED:20250919T141733Z
UID:7427-1763812800-1763816400@oldemarkt.info
SUMMARY:Intocht Sinterklaas
DESCRIPTION:
URL:https://oldemarkt.info/event/intocht-sinterklaas-3/
LOCATION:Mallegat
END:VEVENT
BEGIN:VEVENT
DTSTART;TZID=Europe/Amsterdam:20251213T103000
DTEND;TZID=Europe/Amsterdam:20251213T163000
DTSTAMP:20260420T025459
CREATED:20250504T052939Z
LAST-MODIFIED:20250929T133319Z
UID:7288-1765621800-1765643400@oldemarkt.info
SUMMARY:Kerstrondje 2025
DESCRIPTION:
URL:https://oldemarkt.info/event/kerstrondje-2025/
LOCATION:De Landerijen\, De Weeren 1\, Oldemarkt\, Overijssel\, 8375 CD\, Nederland
END:VEVENT
BEGIN:VEVENT
DTSTART;TZID=Europe/Amsterdam:20260212T200000
DTEND;TZID=Europe/Amsterdam:20260212T223000
DTSTAMP:20260420T025459
CREATED:20260116T124227Z
LAST-MODIFIED:20260116T124227Z
UID:7864-1770926400-1770935400@oldemarkt.info
SUMMARY:Hengelsportvereniging "Het Baarsje" Oldemarkt
DESCRIPTION:ALGEMENE LEDEN VERGADERING
URL:https://oldemarkt.info/event/hengelsportvereniging-het-baarsje-oldemarkt/
LOCATION:MFC Dalzicht
END:VEVENT
END:VCALENDAR