
BEGIN:VCALENDAR
VERSION:2.0
PRODID:-//Oldemarkt een prachtige ontdekking - ECPv6.15.15//NONSGML v1.0//EN
CALSCALE:GREGORIAN
METHOD:PUBLISH
X-ORIGINAL-URL:https://oldemarkt.info
X-WR-CALDESC:Evenementen voor Oldemarkt een prachtige ontdekking
REFRESH-INTERVAL;VALUE=DURATION:PT1H
X-Robots-Tag:noindex
X-PUBLISHED-TTL:PT1H
BEGIN:VTIMEZONE
TZID:Europe/Amsterdam
BEGIN:DAYLIGHT
TZOFFSETFROM:+0100
TZOFFSETTO:+0200
TZNAME:CEST
DTSTART:20180325T010000
END:DAYLIGHT
BEGIN:STANDARD
TZOFFSETFROM:+0200
TZOFFSETTO:+0100
TZNAME:CET
DTSTART:20181028T010000
END:STANDARD
BEGIN:DAYLIGHT
TZOFFSETFROM:+0100
TZOFFSETTO:+0200
TZNAME:CEST
DTSTART:20190331T010000
END:DAYLIGHT
BEGIN:STANDARD
TZOFFSETFROM:+0200
TZOFFSETTO:+0100
TZNAME:CET
DTSTART:20191027T010000
END:STANDARD
BEGIN:DAYLIGHT
TZOFFSETFROM:+0100
TZOFFSETTO:+0200
TZNAME:CEST
DTSTART:20200329T010000
END:DAYLIGHT
BEGIN:STANDARD
TZOFFSETFROM:+0200
TZOFFSETTO:+0100
TZNAME:CET
DTSTART:20201025T010000
END:STANDARD
END:VTIMEZONE
BEGIN:VEVENT
DTSTART;TZID=Europe/Amsterdam:20190721T100000
DTEND;TZID=Europe/Amsterdam:20190721T170000
DTSTAMP:20260419T150647
CREATED:20190603T075020Z
LAST-MODIFIED:20190603T075020Z
UID:3996-1563703200-1563728400@oldemarkt.info
SUMMARY:Weerribben Fair
DESCRIPTION:
URL:https://oldemarkt.info/event/weerribben-fair-4/
LOCATION:Waterbuffelfarm
END:VEVENT
BEGIN:VEVENT
DTSTART;TZID=Europe/Amsterdam:20190722T190000
DTEND;TZID=Europe/Amsterdam:20190722T210000
DTSTAMP:20260419T150647
CREATED:20190426T143300Z
LAST-MODIFIED:20190426T143300Z
UID:3926-1563822000-1563829200@oldemarkt.info
SUMMARY:Rieky's Fietsgroep
DESCRIPTION:
URL:https://oldemarkt.info/event/riekys-fietsgroep-2019-07-22/
LOCATION:RK Kerk
END:VEVENT
BEGIN:VEVENT
DTSTART;TZID=Europe/Amsterdam:20190727T143000
DTEND;TZID=Europe/Amsterdam:20190727T170000
DTSTAMP:20260419T150647
CREATED:20181124T200417Z
LAST-MODIFIED:20181124T200417Z
UID:3445-1564237800-1564246800@oldemarkt.info
SUMMARY:Soos 50+ ers
DESCRIPTION:
URL:https://oldemarkt.info/event/soos-50-ers-9-2019-07-27/
LOCATION:De Landerijen\, De Weeren 1\, Oldemarkt\, Overijssel\, 8375 CD\, Nederland
END:VEVENT
BEGIN:VEVENT
DTSTART;TZID=Europe/Amsterdam:20190729T190000
DTEND;TZID=Europe/Amsterdam:20190729T210000
DTSTAMP:20260419T150647
CREATED:20190426T143300Z
LAST-MODIFIED:20190426T143300Z
UID:3927-1564426800-1564434000@oldemarkt.info
SUMMARY:Rieky's Fietsgroep
DESCRIPTION:
URL:https://oldemarkt.info/event/riekys-fietsgroep-2019-07-29/
LOCATION:RK Kerk
END:VEVENT
BEGIN:VEVENT
DTSTART;TZID=Europe/Amsterdam:20190805T190000
DTEND;TZID=Europe/Amsterdam:20190805T210000
DTSTAMP:20260419T150647
CREATED:20190426T143300Z
LAST-MODIFIED:20190426T143300Z
UID:3928-1565031600-1565038800@oldemarkt.info
SUMMARY:Rieky's Fietsgroep
DESCRIPTION:
URL:https://oldemarkt.info/event/riekys-fietsgroep-2019-08-05/
LOCATION:RK Kerk
END:VEVENT
BEGIN:VEVENT
DTSTART;TZID=Europe/Amsterdam:20190812T190000
DTEND;TZID=Europe/Amsterdam:20190812T210000
DTSTAMP:20260419T150647
CREATED:20190426T143300Z
LAST-MODIFIED:20190426T143300Z
UID:3929-1565636400-1565643600@oldemarkt.info
SUMMARY:Rieky's Fietsgroep
DESCRIPTION:
URL:https://oldemarkt.info/event/riekys-fietsgroep-2019-08-12/
LOCATION:RK Kerk
END:VEVENT
BEGIN:VEVENT
DTSTART;TZID=Europe/Amsterdam:20190817T121500
DTEND;TZID=Europe/Amsterdam:20190817T133000
DTSTAMP:20260419T150647
CREATED:20190405T174055Z
LAST-MODIFIED:20190405T174055Z
UID:3854-1566044100-1566048600@oldemarkt.info
SUMMARY:Zomermaaltijd
DESCRIPTION:
URL:https://oldemarkt.info/event/zomermaaltijd/
LOCATION:De Landerijen\, De Weeren 1\, Oldemarkt\, Overijssel\, 8375 CD\, Nederland
END:VEVENT
BEGIN:VEVENT
DTSTART;TZID=Europe/Amsterdam:20190819T190000
DTEND;TZID=Europe/Amsterdam:20190819T210000
DTSTAMP:20260419T150647
CREATED:20190426T143300Z
LAST-MODIFIED:20190426T143300Z
UID:3930-1566241200-1566248400@oldemarkt.info
SUMMARY:Rieky's Fietsgroep
DESCRIPTION:
URL:https://oldemarkt.info/event/riekys-fietsgroep-2019-08-19/
LOCATION:RK Kerk
END:VEVENT
BEGIN:VEVENT
DTSTART;TZID=Europe/Amsterdam:20190822T090000
DTEND;TZID=Europe/Amsterdam:20190822T120000
DTSTAMP:20260419T150647
CREATED:20190804T234247Z
LAST-MODIFIED:20190804T234247Z
UID:4050-1566464400-1566475200@oldemarkt.info
SUMMARY:WIWA Wandeling
DESCRIPTION:Waar we gaan lopen is nog even een verrassing maar voor een ieder die mee wil lopen: Verzamelen  uiterlijk om 9 uur bij de Roomskatholieke kerk in Oldemarkt!. \n\nIn september lopen we weer op 19 september.
URL:https://oldemarkt.info/event/wiwa-wandeling-4/
LOCATION:RK Kerk
END:VEVENT
BEGIN:VEVENT
DTSTART;TZID=Europe/Amsterdam:20190822T090000
DTEND;TZID=Europe/Amsterdam:20190822T170000
DTSTAMP:20260419T150647
CREATED:20190707T093611Z
LAST-MODIFIED:20190707T093611Z
UID:4032-1566464400-1566493200@oldemarkt.info
SUMMARY:WiWa wandeling
DESCRIPTION:Agenda volgt.
URL:https://oldemarkt.info/event/wiwa-wandeling-3/
LOCATION:RK Kerk
END:VEVENT
BEGIN:VEVENT
DTSTART;TZID=Europe/Amsterdam:20190826T190000
DTEND;TZID=Europe/Amsterdam:20190826T210000
DTSTAMP:20260419T150647
CREATED:20190426T143300Z
LAST-MODIFIED:20190426T143300Z
UID:3931-1566846000-1566853200@oldemarkt.info
SUMMARY:Rieky's Fietsgroep
DESCRIPTION:
URL:https://oldemarkt.info/event/riekys-fietsgroep-2019-08-26/
LOCATION:RK Kerk
END:VEVENT
BEGIN:VEVENT
DTSTART;TZID=Europe/Amsterdam:20190829T193000
DTEND;TZID=Europe/Amsterdam:20190829T220000
DTSTAMP:20260419T150647
CREATED:20190502T142700Z
LAST-MODIFIED:20190502T142700Z
UID:3951-1567107000-1567116000@oldemarkt.info
SUMMARY:Vollenhoofsch Visserskoor
DESCRIPTION:
URL:https://oldemarkt.info/event/vollenhoofsch-visserskoor/
LOCATION:Camping De Eikenhof
END:VEVENT
BEGIN:VEVENT
DTSTART;TZID=Europe/Amsterdam:20190831T143000
DTEND;TZID=Europe/Amsterdam:20190831T170000
DTSTAMP:20260419T150647
CREATED:20181124T200417Z
LAST-MODIFIED:20181124T200417Z
UID:3446-1567261800-1567270800@oldemarkt.info
SUMMARY:Soos 50+ ers
DESCRIPTION:
URL:https://oldemarkt.info/event/soos-50-ers-9-2019-08-31/
LOCATION:De Landerijen\, De Weeren 1\, Oldemarkt\, Overijssel\, 8375 CD\, Nederland
END:VEVENT
BEGIN:VEVENT
DTSTART;TZID=Europe/Amsterdam:20190912T100000
DTEND;TZID=Europe/Amsterdam:20190914T210000
DTSTAMP:20260419T150647
CREATED:20190127T195731Z
LAST-MODIFIED:20190127T195732Z
UID:3667-1568282400-1568494800@oldemarkt.info
SUMMARY:Oldemarkter Feest
DESCRIPTION:
URL:https://oldemarkt.info/event/oldemarkter-feest-4/
LOCATION:Evenemententerrein
END:VEVENT
BEGIN:VEVENT
DTSTART;TZID=Europe/Amsterdam:20190919T090000
DTEND;TZID=Europe/Amsterdam:20190919T120000
DTSTAMP:20260419T150647
CREATED:20190902T070612Z
LAST-MODIFIED:20190902T070612Z
UID:4058-1568883600-1568894400@oldemarkt.info
SUMMARY:WiWa Wandeling
DESCRIPTION:Waar we gaan lopen is nog even een verrassing maar voor een ieder die mee wil lopen: Verzamelen  uiterlijk om 9 uur bij de Roomskatholieke kerk in Oldemarkt!.
URL:https://oldemarkt.info/event/wiwa-wandeling-5/
LOCATION:RK Kerk
END:VEVENT
BEGIN:VEVENT
DTSTART;TZID=Europe/Amsterdam:20190928T143000
DTEND;TZID=Europe/Amsterdam:20190928T170000
DTSTAMP:20260419T150647
CREATED:20181124T200417Z
LAST-MODIFIED:20181124T200417Z
UID:3447-1569681000-1569690000@oldemarkt.info
SUMMARY:Soos 50+ ers
DESCRIPTION:
URL:https://oldemarkt.info/event/soos-50-ers-9-2019-09-28/
LOCATION:De Landerijen\, De Weeren 1\, Oldemarkt\, Overijssel\, 8375 CD\, Nederland
END:VEVENT
BEGIN:VEVENT
DTSTART;TZID=Europe/Amsterdam:20190930T200000
DTEND;TZID=Europe/Amsterdam:20190930T220000
DTSTAMP:20260419T150647
CREATED:20190923T130845Z
LAST-MODIFIED:20190923T130845Z
UID:4077-1569873600-1569880800@oldemarkt.info
SUMMARY:Bijeenkomst van Passage\, chr. maatsch. vrouwenbeweging\, Oldemarkt-Paasloo: Sociaal Werk De Kop
DESCRIPTION:Plaats:  ”De Ontmoeting”\, Marktplein 9\, 8375 AZ Oldemarkt. Aanvang: 20.00 uur. \nInlichtingen bij: Vrouwkje Visserman-Winters\,  telefoon 0561-451933 \nemail: vrouwkje.visserman@gmail.com
URL:https://oldemarkt.info/event/bijeenkomst-van-passage-chr-maatsch-vrouwenbeweging-oldemarkt-paasloo-sociaal-werk-de-kop/
LOCATION:De Ontmoeting
END:VEVENT
BEGIN:VEVENT
DTSTART;TZID=Europe/Amsterdam:20191003T200000
DTEND;TZID=Europe/Amsterdam:20191003T220000
DTSTAMP:20260419T150647
CREATED:20190923T132650Z
LAST-MODIFIED:20190923T132650Z
UID:4093-1570132800-1570140000@oldemarkt.info
SUMMARY:Lezing “Weten wa’j zegt”  Historische Vereniging IJsselham
DESCRIPTION:Lezing: “WETEN WA’J ZEGT” \nEen informatieve avond over de geschiedenis\, heden en toekomst van het dialect in Overijssel \nVoor de pauze vertelt dr. Harrie Scholtmeijer over de geschiedenis van streektaal. Hij zal ingaan op vragen als: waar komt ons dialect vandaan\, wat is eigenlijk het verschil tussen een dialect en een taal\, hoeveel verschillende dialecten zijn er nog in Overijssel? \nNa de pauze zal Albert Bartelds met u in gesprek gaan over de stand van zaken van het dialect en een verkenning ondernemen naar de toekomst van het dialect en tevens iets vertellen over de diverse streektaalprojecten van de IJsselacademie. \nHarrie Scholtmeijer is opgegroeid in Vollenhove\, en studeerde Nederlands\, Oud- en Nedersaksisch aan de Rijksuniversiteit Groningen. Hij was als dialectoloog werkzaam in Utrecht en Amsterdam en promoveerde in 1992 aan de Universiteit Leiden. Op dit moment werkt hij als projectleider streektaalkunde bij de IJsselacademie te Zwolle en is hij werkzaam op de Hogeschool Utrecht als docent Nederlands en Taalkunde binnen de opleiding Gebarentaal. \nAlbert Bartelds is geboren en getogen in Rouveen en werkzaam als streektaalmedewerker bij de IJsselacademie. Hij beweegt zich voornamelijk in het culturele domein\, en heeft diverse streektaalprojecten bedacht en uitgevoerd binnen dat domein\, alsook onderwijsprojecten. \nDatum: donderdag 03-10-2019\nLocatie Dalzicht\, Frieseweg 3\, 8375 AH in Oldemarkt. \nDe lezing begint om 20.00 uur en is voor leden van de HVIJ gratis bij te wonen. \nAan belangstellenden wordt een kleine bijdrage gevraagd.
URL:https://oldemarkt.info/event/lezing-weten-waj-zegt-historische-vereniging-ijsselham/
LOCATION:MFC Dalzicht
END:VEVENT
BEGIN:VEVENT
DTSTART;TZID=Europe/Amsterdam:20191013T170000
DTEND;TZID=Europe/Amsterdam:20191013T180000
DTSTAMP:20260419T150647
CREATED:20190930T080405Z
LAST-MODIFIED:20190930T080405Z
UID:4108-1570986000-1570989600@oldemarkt.info
SUMMARY:Herdenking oorlogsslachtoffers bij monument Kallenkote
DESCRIPTION:Op 13 oktober a.s. vindt er een herdenking plaats in Kallenkote\, \nBij het monument van oorlogsslachtoffers aldaar. Een aantal WiWa mensen zal daarheen gaan\, voor inlichtingen graag even \nEen mail naar: lydiaschot@solcon.nl.
URL:https://oldemarkt.info/event/herdenking-oorlogsslachtoffers-bij-monument-kallenkote/
LOCATION:Kallenkote
END:VEVENT
BEGIN:VEVENT
DTSTART;TZID=Europe/Amsterdam:20191017T090000
DTEND;TZID=Europe/Amsterdam:20191017T120000
DTSTAMP:20260419T150647
CREATED:20190902T070713Z
LAST-MODIFIED:20190902T070713Z
UID:4060-1571302800-1571313600@oldemarkt.info
SUMMARY:WiWa Wandeling
DESCRIPTION:Waar we gaan lopen is nog even een verrassing maar voor een ieder die mee wil lopen: Verzamelen  uiterlijk om 9 uur bij de Roomskatholieke kerk in Oldemarkt!.
URL:https://oldemarkt.info/event/wiwa-wandeling-6/
LOCATION:RK Kerk
END:VEVENT
BEGIN:VEVENT
DTSTART;TZID=Europe/Amsterdam:20191017T090000
DTEND;TZID=Europe/Amsterdam:20191017T120000
DTSTAMP:20260419T150647
CREATED:20190930T080226Z
LAST-MODIFIED:20190930T080226Z
UID:4106-1571302800-1571313600@oldemarkt.info
SUMMARY:WIWA wandeling
DESCRIPTION:We starten om 9uur en verzamelen ons bij de Katholieke Kerk. \nWaarschijnlijk blijven we redelijk in de buurt van Oldemarkt deze keer.
URL:https://oldemarkt.info/event/wiwa-wandeling-7/
LOCATION:RK Kerk
END:VEVENT
BEGIN:VEVENT
DTSTART;TZID=Europe/Amsterdam:20191019T143000
DTEND;TZID=Europe/Amsterdam:20191019T170000
DTSTAMP:20260419T150647
CREATED:20191014T184825Z
LAST-MODIFIED:20191014T184825Z
UID:4153-1571495400-1571504400@oldemarkt.info
SUMMARY:AC Verrassingsmiddag
DESCRIPTION:
URL:https://oldemarkt.info/event/ac-verrassingsmiddag-3/
LOCATION:De Landerijen\, De Weeren 1\, Oldemarkt\, Overijssel\, 8375 CD\, Nederland
END:VEVENT
BEGIN:VEVENT
DTSTART;TZID=Europe/Amsterdam:20191022T100000
DTEND;TZID=Europe/Amsterdam:20191022T120000
DTSTAMP:20260419T150647
CREATED:20191014T185307Z
LAST-MODIFIED:20191014T185307Z
UID:4157-1571738400-1571745600@oldemarkt.info
SUMMARY:Digi-café
DESCRIPTION:
URL:https://oldemarkt.info/event/digi-cafe/
LOCATION:De Landerijen\, De Weeren 1\, Oldemarkt\, Overijssel\, 8375 CD\, Nederland
END:VEVENT
BEGIN:VEVENT
DTSTART;TZID=Europe/Amsterdam:20191022T200000
DTEND;TZID=Europe/Amsterdam:20191022T223000
DTSTAMP:20260419T150647
CREATED:20191014T184131Z
LAST-MODIFIED:20191014T184131Z
UID:4137-1571774400-1571783400@oldemarkt.info
SUMMARY:Klaverjassen
DESCRIPTION:
URL:https://oldemarkt.info/event/klaverjassen-3/
LOCATION:De Landerijen\, De Weeren 1\, Oldemarkt\, Overijssel\, 8375 CD\, Nederland
END:VEVENT
BEGIN:VEVENT
DTSTART;TZID=Europe/Amsterdam:20191024T143000
DTEND;TZID=Europe/Amsterdam:20191024T170000
DTSTAMP:20260419T150647
CREATED:20191014T184404Z
LAST-MODIFIED:20191014T184404Z
UID:4143-1571927400-1571936400@oldemarkt.info
SUMMARY:Haak- en breicafé
DESCRIPTION:
URL:https://oldemarkt.info/event/haak-en-breicafe-7/
LOCATION:De Landerijen\, De Weeren 1\, Oldemarkt\, Overijssel\, 8375 CD\, Nederland
END:VEVENT
BEGIN:VEVENT
DTSTART;TZID=Europe/Amsterdam:20191026T110000
DTEND;TZID=Europe/Amsterdam:20191027T170000
DTSTAMP:20260419T150647
CREATED:20190926T091229Z
LAST-MODIFIED:20190926T091229Z
UID:4102-1572087600-1572195600@oldemarkt.info
SUMMARY:Herfstcrea beurs in Oldemarkt
DESCRIPTION:In het laatste weekend van oktober wordt weer de traditionele herfstcrea beurs te Oldemarkt gehouden. Ook dit jaar is er weer een diversiteit aan standhouders\, o.a. sieraden\, kaarten\, diverse schildertechnieken\, mineralen\, breiwerken\, verkleedkleding voor meisjes\, demonstratie met spinnewielen\, en nog veel meer. Voor de kinderen is er een springkussen en een speelhoek. Ook kunnen de kinderen tegen een geringe vergoeding een sierraad van een schijfje agaat maken. Dit jaar zijn er op een schaalboerderij op afstand bestuurbare tractoren te bewonderen\, en ook kunt u groot circus van playmobil bewonderen. \nOp de zondag hebben wij een demonstratie over reanimatie en het gebruik van de AED\, dit verzorgd door een professionele instructeur. Er kan geoefend worden op poppen en middels een beeldscherm is te zien of de handelingen juist zijn geweest. De bezoekers kunnen gratis met de prijsvraag mee doen\, deze wordt verzorgt door de aanwezige modelspoorders. En vergeet niet bij het naar huis gaan om een zak knieperties mee te nemen\, deze zijn lekker en U steunt er een goed doel mee. \nNoteer deze datum in uw agenda\, de beurs is op zaterdag 26 en zondag 27 oktober a.s.. Beide dagen geopend tussen 11:00 en 17:00 uur. De toegangsprijs is 2\,50 euro\, kinderen tot en met 12 jaar betalen 1\,00 euro.
URL:https://oldemarkt.info/event/herfstcrea-beurs-in-oldemarkt/
END:VEVENT
BEGIN:VEVENT
DTSTART;TZID=Europe/Amsterdam:20191026T143000
DTEND;TZID=Europe/Amsterdam:20191026T170000
DTSTAMP:20260419T150647
CREATED:20181124T200417Z
LAST-MODIFIED:20181124T200417Z
UID:3448-1572100200-1572109200@oldemarkt.info
SUMMARY:Soos 50+ ers
DESCRIPTION:
URL:https://oldemarkt.info/event/soos-50-ers-9-2019-10-26/
LOCATION:De Landerijen\, De Weeren 1\, Oldemarkt\, Overijssel\, 8375 CD\, Nederland
END:VEVENT
BEGIN:VEVENT
DTSTART;TZID=Europe/Amsterdam:20191028T200000
DTEND;TZID=Europe/Amsterdam:20191028T220000
DTSTAMP:20260419T150647
CREATED:20190923T131041Z
LAST-MODIFIED:20190923T131041Z
UID:4079-1572292800-1572300000@oldemarkt.info
SUMMARY:Geuren en kleuren in de Bijbel door Harmien Mulder uit Dwingeloo
DESCRIPTION:Plaats:  ”De Ontmoeting”\, Marktplein 9\, 8375 AZ Oldemarkt. Aanvang: 20.00 uur. \nInlichtingen bij: Vrouwkje Visserman-Winters\,  telefoon 0561-451933 \nemail: vrouwkje.visserman@gmail.com
URL:https://oldemarkt.info/event/geuren-en-kleuren-in-de-bijbel-door-harmien-mulder-uit-dwingeloo/
LOCATION:De Ontmoeting
END:VEVENT
BEGIN:VEVENT
DTSTART;TZID=Europe/Amsterdam:20191030T100000
DTEND;TZID=Europe/Amsterdam:20191030T120000
DTSTAMP:20260419T150647
CREATED:20191014T190238Z
LAST-MODIFIED:20191014T190238Z
UID:4175-1572429600-1572436800@oldemarkt.info
SUMMARY:Creazy Ladies
DESCRIPTION:
URL:https://oldemarkt.info/event/creazy-ladies-5/
LOCATION:De Landerijen\, De Weeren 1\, Oldemarkt\, Overijssel\, 8375 CD\, Nederland
END:VEVENT
BEGIN:VEVENT
DTSTART;TZID=Europe/Amsterdam:20191105T121500
DTEND;TZID=Europe/Amsterdam:20191105T133000
DTSTAMP:20260419T150647
CREATED:20191014T184721Z
LAST-MODIFIED:20191014T184721Z
UID:4150-1572956100-1572960600@oldemarkt.info
SUMMARY:Maaltijd 40+ ers
DESCRIPTION:
URL:https://oldemarkt.info/event/maaltijd-40-ers-9/
LOCATION:De Landerijen\, De Weeren 1\, Oldemarkt\, Overijssel\, 8375 CD\, Nederland
END:VEVENT
END:VCALENDAR