
BEGIN:VCALENDAR
VERSION:2.0
PRODID:-//Oldemarkt een prachtige ontdekking - ECPv6.15.15//NONSGML v1.0//EN
CALSCALE:GREGORIAN
METHOD:PUBLISH
X-WR-CALNAME:Oldemarkt een prachtige ontdekking
X-ORIGINAL-URL:https://oldemarkt.info
X-WR-CALDESC:Evenementen voor Oldemarkt een prachtige ontdekking
REFRESH-INTERVAL;VALUE=DURATION:PT1H
X-Robots-Tag:noindex
X-PUBLISHED-TTL:PT1H
BEGIN:VTIMEZONE
TZID:Europe/Amsterdam
BEGIN:DAYLIGHT
TZOFFSETFROM:+0100
TZOFFSETTO:+0200
TZNAME:CEST
DTSTART:20190331T010000
END:DAYLIGHT
BEGIN:STANDARD
TZOFFSETFROM:+0200
TZOFFSETTO:+0100
TZNAME:CET
DTSTART:20191027T010000
END:STANDARD
BEGIN:DAYLIGHT
TZOFFSETFROM:+0100
TZOFFSETTO:+0200
TZNAME:CEST
DTSTART:20200329T010000
END:DAYLIGHT
BEGIN:STANDARD
TZOFFSETFROM:+0200
TZOFFSETTO:+0100
TZNAME:CET
DTSTART:20201025T010000
END:STANDARD
BEGIN:DAYLIGHT
TZOFFSETFROM:+0100
TZOFFSETTO:+0200
TZNAME:CEST
DTSTART:20210328T010000
END:DAYLIGHT
BEGIN:STANDARD
TZOFFSETFROM:+0200
TZOFFSETTO:+0100
TZNAME:CET
DTSTART:20211031T010000
END:STANDARD
END:VTIMEZONE
BEGIN:VEVENT
DTSTART;TZID=Europe/Amsterdam:20200319T090000
DTEND;TZID=Europe/Amsterdam:20200319T120000
DTSTAMP:20260421T064738
CREATED:20200222T144743Z
LAST-MODIFIED:20200222T144743Z
UID:4453-1584608400-1584619200@oldemarkt.info
SUMMARY:WIWA Wandeling
DESCRIPTION:In Maart lopen we  op de 19e  start vanaf de kerk zoals gewoonlijk. Iedereen welkom
URL:https://oldemarkt.info/event/wiwa-wandeling-14/
LOCATION:RK Kerk
END:VEVENT
BEGIN:VEVENT
DTSTART;TZID=Europe/Amsterdam:20200319T090000
DTEND;TZID=Europe/Amsterdam:20200319T120000
DTSTAMP:20260421T064738
CREATED:20200127T072932Z
LAST-MODIFIED:20200127T072932Z
UID:4418-1584608400-1584619200@oldemarkt.info
SUMMARY:WIWA Wandeling
DESCRIPTION:Verzamelen bij de RK om 9.00. Iedereen is welkom!
URL:https://oldemarkt.info/event/wiwa-wandeling-13/
LOCATION:RK Kerk
END:VEVENT
BEGIN:VEVENT
DTSTART;TZID=Europe/Amsterdam:20200317T200000
DTEND;TZID=Europe/Amsterdam:20200317T220000
DTSTAMP:20260421T064738
CREATED:20200113T103546Z
LAST-MODIFIED:20200113T103546Z
UID:4347-1584475200-1584482400@oldemarkt.info
SUMMARY:Klaverjassen
DESCRIPTION:
URL:https://oldemarkt.info/event/klaverjassen-4-2020-03-17/
LOCATION:De Landerijen\, De Weeren 1\, Oldemarkt\, Overijssel\, 8375 CD\, Nederland
END:VEVENT
BEGIN:VEVENT
DTSTART;TZID=Europe/Amsterdam:20200315T143000
DTEND;TZID=Europe/Amsterdam:20200315T170000
DTSTAMP:20260421T064738
CREATED:20200113T105537Z
LAST-MODIFIED:20200113T105537Z
UID:4379-1584282600-1584291600@oldemarkt.info
SUMMARY:OvO Gezellige zondagmiddag
DESCRIPTION:
URL:https://oldemarkt.info/event/ovo-gezellige-zondagmiddag-5/
END:VEVENT
BEGIN:VEVENT
DTSTART;TZID=Europe/Amsterdam:20200311T143000
DTEND;TZID=Europe/Amsterdam:20200311T170000
DTSTAMP:20260421T064738
CREATED:20200113T104228Z
LAST-MODIFIED:20200113T104228Z
UID:4353-1583937000-1583946000@oldemarkt.info
SUMMARY:Haak- en Breicafé
DESCRIPTION:
URL:https://oldemarkt.info/event/haak-en-breicafe-9-2020-03-11/
LOCATION:De Landerijen\, De Weeren 1\, Oldemarkt\, Overijssel\, 8375 CD\, Nederland
END:VEVENT
BEGIN:VEVENT
DTSTART;TZID=Europe/Amsterdam:20200310T143000
DTEND;TZID=Europe/Amsterdam:20200310T170000
DTSTAMP:20260421T064738
CREATED:20191014T185728Z
LAST-MODIFIED:20191014T185728Z
UID:4169-1583850600-1583859600@oldemarkt.info
SUMMARY:VPN wat is dat?
DESCRIPTION:
URL:https://oldemarkt.info/event/vpn-wat-is-dat/
LOCATION:De Landerijen\, De Weeren 1\, Oldemarkt\, Overijssel\, 8375 CD\, Nederland
END:VEVENT
BEGIN:VEVENT
DTSTART;TZID=Europe/Amsterdam:20200307T200000
DTEND;TZID=Europe/Amsterdam:20200307T220000
DTSTAMP:20260421T064738
CREATED:20200229T194721Z
LAST-MODIFIED:20200229T194721Z
UID:4469-1583611200-1583618400@oldemarkt.info
SUMMARY:Concert Oldemarkter Fanfare & The Swinging Stones
DESCRIPTION:Zaterdag 7 maart wordt in MFC Dalzicht de jaarlijkse uitvoering van muziekvereniging Oldemarkter Fanfare gehouden. \nEen blik op het programma belooft een avond met marsmuziek\, filmmuziek\, klassieke muziek\, popmuziek\, wereldmuziek en prachtige zangnummers. \nHet fanfareorkest onder leiding van dirigent Sipko Feikens speelt\, o.a. A Tribute to Amy Winehouse\, Arcade\, Spirits\, Une belle Histoire en American Patrol. \nOp het repertoire van een fanfareorkest mag een mars niet ontbreken en daarom is gekozen van de marsen Einzug der Gladiatoren en Hommage. \nAls solisten komen Sacha en Mandy ter Schure aan bod\, zij spelen een duet bij het mooie muziekstuk Perhaps Love. \nVoor dans en show wordt gezorgd door de leden van de twirlgroep. Samen met hun nieuwe trainer Richard Spaan is de afgelopen periode hard gewerkt aan de opbouw van nieuwe shows. \nVoor deze uitvoering heeft Oldemarkter Fanfare het koor “The Swinging Stones” uit Steenwijk uitgenodigd. Dit koor bestaat uit ruim 30 enthousiaste vrouwen. Samen met hun dirigente Mirjam Cornelisse staan zij garant voor een spetterend optreden. \nOp hun programma staan o.a. Hallelujah\, Avond\, Terug naar de Kust\,  A la Nanita\, Noyana en Shop Shope. \nZin in een avondje uit\, met muziek\, zang\, dans en show\, kom dan zaterdag \n7 maart 2020 naar MFC Dalzicht. De uitvoering begint om 20.00 uur. \nDonateurs hebben op vertoon van de donateurskaart gratis toegang. \nDe laatste jaren was het gewoonte dat de leden van Oldemarkter Fanfare in de week na de uitvoering huis-aan-huis de bestellingen voor de potgrondactie kwamen opnemen. \nOm diverse redenen is onlangs besloten om te stoppen met deze actie. \nDe vereniging wil iedereen\, die in de afgelopen jaren potgrond heeft besteld\,  hiervoor bedanken.
URL:https://oldemarkt.info/event/concert-oldemarkter-fanfare-the-swinging-stones/
LOCATION:MFC Dalzicht
END:VEVENT
BEGIN:VEVENT
DTSTART;TZID=Europe/Amsterdam:20200307T200000
DTEND;TZID=Europe/Amsterdam:20200307T220000
DTSTAMP:20260421T064738
CREATED:20200204T212917Z
LAST-MODIFIED:20200204T212917Z
UID:4429-1583611200-1583618400@oldemarkt.info
SUMMARY:Oldemarkter Fanfare en The Swinging Stones
DESCRIPTION:In MFC Dalzicht wordt op zaterdag 7 maart de jaarlijkse uitvoering van Oldemarkter\nFanfare gehouden. \nOnder leiding van dirigent Sipko Feikens is de laatste tijd gewerkt aan het instuderen\nvan een mooi en veelzijdig programma.\nOp het programma staan diverse bekende muziekstukken\, zoals Amadeus Favorites\,\nAmerican Patrol\, A Tribute to Amy Winehouse\, Spirits en Arcade. Daarnaast mag\nnatuurlijk de marsmuziek niet ontbreken\, het orkest speelt de marsen Einzug der\nGladiatoren en Homage. Bijzonder is de bugelsolo Perhaps Love. \nAlles bij elkaar een programma met veel afwisseling\, voor elk wat wils.\nVoor deze uitvoering heeft Oldemarkter Fanfare het koor The Swinging Stones uit\nSteenwijk uitgenodigd. \nDit koor bestaat uit ruim 30 vrouwen\, zij zingen meerstemmig a capella en de klank\nstraalt uit alsof de zang begeleid wordt door een heel orkest. Toch komt er geen\ninstrument aan te pas. \nThe Swinging Stones staan onder leiding van dirigent Mirjam Cornelisse.\nHet repertoire van het koor is een uiteenlopend genre zoals ballads\, licht klassiek\ngetinte liederen\, wereldmuziek\, musical songs\, popsongs. De muziek is swingend\,\nsoms ook ingetogen en subtiel. \nDe dames van de majorette- en twirlgroep zorgen met hun optredens voor dans en\nshow. Ze hebben de laatste tijd verschillende nieuwe shows ingestudeerd. Met deze\nshows gaan ze de komende maanden deelnemen aan diverse twirlwedstrijden. De\nuitvoering is dan ook een mooie gelegenheid om de show alvast aan het publiek te\npresenteren. \nZin in een avondje uit\, met veel muziek\, zang\, dans en show\, kom dan zaterdag\n7 maart 2020 naar Zalencentrum Dalzicht. De uitvoering begint om 20.00 uur. \nDe donateurs hebben op vertoon van hun donateurskaart gratis toegang.
URL:https://oldemarkt.info/event/oldemarkter-fanfare-en-the-swinging-stones/
LOCATION:MFC Dalzicht
END:VEVENT
BEGIN:VEVENT
DTSTART;TZID=Europe/Amsterdam:20200307T200000
DTEND;TZID=Europe/Amsterdam:20200307T220000
DTSTAMP:20260421T064738
CREATED:20200119T152427Z
LAST-MODIFIED:20200119T152427Z
UID:4406-1583611200-1583618400@oldemarkt.info
SUMMARY:Jaarlijkse uitvoering Oldemarkter Fanfare
DESCRIPTION:
URL:https://oldemarkt.info/event/jaarlijkse-uitvoering-oldemarkter-fanfare-2/
LOCATION:MFC Dalzicht
END:VEVENT
BEGIN:VEVENT
DTSTART;TZID=Europe/Amsterdam:20200307T170000
DTEND;TZID=Europe/Amsterdam:20200307T223000
DTSTAMP:20260421T064738
CREATED:20200118T121007Z
LAST-MODIFIED:20200118T124311Z
UID:4400-1583600400-1583620200@oldemarkt.info
SUMMARY:Dalzicht/Bakkerij Boogaard Keezentoernooi
DESCRIPTION:
URL:https://oldemarkt.info/event/dalzicht-bakkerij-boogaard-keezentoernooi/
LOCATION:MFC Dalzicht
END:VEVENT
BEGIN:VEVENT
DTSTART;TZID=Europe/Amsterdam:20200303T200000
DTEND;TZID=Europe/Amsterdam:20200303T220000
DTSTAMP:20260421T064738
CREATED:20200113T103546Z
LAST-MODIFIED:20200113T103546Z
UID:4346-1583265600-1583272800@oldemarkt.info
SUMMARY:Klaverjassen
DESCRIPTION:
URL:https://oldemarkt.info/event/klaverjassen-4-2020-03-03/
LOCATION:De Landerijen\, De Weeren 1\, Oldemarkt\, Overijssel\, 8375 CD\, Nederland
END:VEVENT
BEGIN:VEVENT
DTSTART;TZID=Europe/Amsterdam:20200303T193000
DTEND;TZID=Europe/Amsterdam:20200303T213000
DTSTAMP:20260421T064738
CREATED:20191110T143442Z
LAST-MODIFIED:20191111T155612Z
UID:4218-1583263800-1583271000@oldemarkt.info
SUMMARY:Herhalingstraining AED in Dalzicht
DESCRIPTION:Bedoeld voor de reeds gecertificeerde. Aanmelding  volgt t.z.t. middels een door ons rechtstreeks toegezonden aanmeldingsformulier.
URL:https://oldemarkt.info/event/herhalingstraining-aed-in-dalzicht-2/
LOCATION:MFC Dalzicht
END:VEVENT
BEGIN:VEVENT
DTSTART;TZID=Europe/Amsterdam:20200303T121500
DTEND;TZID=Europe/Amsterdam:20200303T133000
DTSTAMP:20260421T064738
CREATED:20200113T104747Z
LAST-MODIFIED:20200113T104747Z
UID:4368-1583237700-1583242200@oldemarkt.info
SUMMARY:Maaltijd 40+ ers
DESCRIPTION:
URL:https://oldemarkt.info/event/maaltijd-40-ers-10-2020-03-03/
LOCATION:De Landerijen\, De Weeren 1\, Oldemarkt\, Overijssel\, 8375 CD\, Nederland
END:VEVENT
BEGIN:VEVENT
DTSTART;TZID=Europe/Amsterdam:20200229T143000
DTEND;TZID=Europe/Amsterdam:20200229T170000
DTSTAMP:20260421T064738
CREATED:20200113T104454Z
LAST-MODIFIED:20200113T104454Z
UID:4356-1582986600-1582995600@oldemarkt.info
SUMMARY:Soos 50+ ers
DESCRIPTION:
URL:https://oldemarkt.info/event/soos-50-ers-10-2020-02-29/
LOCATION:De Landerijen\, De Weeren 1\, Oldemarkt\, Overijssel\, 8375 CD\, Nederland
END:VEVENT
BEGIN:VEVENT
DTSTART;TZID=Europe/Amsterdam:20200229T090000
DTEND;TZID=Europe/Amsterdam:20200229T110000
DTSTAMP:20260421T064738
CREATED:20191110T143246Z
LAST-MODIFIED:20191110T143246Z
UID:4216-1582966800-1582974000@oldemarkt.info
SUMMARY:Herhalingstraining AED in Dalzicht
DESCRIPTION:Bedoeld voor de reeds gecertificeerde. Aanmelding  volgt t.z.t. middels een door ons rechtstreeks toegezonden aanmeldingsformulier.
URL:https://oldemarkt.info/event/herhalingstraining-aed-in-dalzicht/
LOCATION:MFC Dalzicht
END:VEVENT
BEGIN:VEVENT
DTSTART;TZID=Europe/Amsterdam:20200228T193000
DTEND;TZID=Europe/Amsterdam:20200228T213000
DTSTAMP:20260421T064738
CREATED:20200113T100821Z
LAST-MODIFIED:20200113T100821Z
UID:4331-1582918200-1582925400@oldemarkt.info
SUMMARY:Filmhuis: "Darkest Hour"
DESCRIPTION:
URL:https://oldemarkt.info/event/filmhuis-darkest-hour/
LOCATION:De Landerijen\, De Weeren 1\, Oldemarkt\, Overijssel\, 8375 CD\, Nederland
END:VEVENT
BEGIN:VEVENT
DTSTART;TZID=Europe/Amsterdam:20200227T200000
DTEND;TZID=Europe/Amsterdam:20200227T220000
DTSTAMP:20260421T064738
CREATED:20200119T214044Z
LAST-MODIFIED:20200119T214044Z
UID:4411-1582833600-1582840800@oldemarkt.info
SUMMARY:Algemene Ledenvergadering Plaatselijk Belang Oldemarkt
DESCRIPTION:De algemene ledenvergadering van Plaatselijk Belang Oldemarkt is op donderdag 27 februari in Dalzicht om 20.00 uur. \nWe blikken samen terug op 2019 en kijken vooruit op de projecten in 2020. Tevens worden nieuwe bestuursleden gekozen en een aantal treed dit jaar ook weer af. \nTijdens de vergadering komt Tjerk Kooistra aan het woord\, hij gaat onderzoek doen onder de inwoners van Oldemarkt. En komen dan verschillende vragen aan bod\, waarom woont u in Oldemarkt\, wat mist u\, wat zou u graag anders willen zien… Tjerk gaat over dit onderzoek vertellen. \nAansluitend aan de vergadering is er een gastspreker\, wie de gast is? Kom maar luisteren.
URL:https://oldemarkt.info/event/algemene-ledenvergadering-plaatselijk-belang-oldemarkt/
LOCATION:MFC Dalzicht
END:VEVENT
BEGIN:VEVENT
DTSTART;TZID=Europe/Amsterdam:20200226T093000
DTEND;TZID=Europe/Amsterdam:20200226T120000
DTSTAMP:20260421T064738
CREATED:20200113T105424Z
LAST-MODIFIED:20200113T105424Z
UID:4376-1582709400-1582718400@oldemarkt.info
SUMMARY:Creazy Ladies
DESCRIPTION:
URL:https://oldemarkt.info/event/creazy-ladies-6/
LOCATION:De Landerijen\, De Weeren 1\, Oldemarkt\, Overijssel\, 8375 CD\, Nederland
END:VEVENT
BEGIN:VEVENT
DTSTART;TZID=Europe/Amsterdam:20200225T143000
DTEND;TZID=Europe/Amsterdam:20200225T163000
DTSTAMP:20260421T064738
CREATED:20200128T184806Z
LAST-MODIFIED:20200128T184806Z
UID:4423-1582641000-1582648200@oldemarkt.info
SUMMARY:Tablets/iPads
DESCRIPTION:
URL:https://oldemarkt.info/event/tablets-ipads/
LOCATION:De Landerijen\, De Weeren 1\, Oldemarkt\, Overijssel\, 8375 CD\, Nederland
END:VEVENT
BEGIN:VEVENT
DTSTART;TZID=Europe/Amsterdam:20200225T100000
DTEND;TZID=Europe/Amsterdam:20200225T120000
DTSTAMP:20260421T064738
CREATED:20200113T092755Z
LAST-MODIFIED:20200113T092755Z
UID:4322-1582624800-1582632000@oldemarkt.info
SUMMARY:Digi-café
DESCRIPTION:
URL:https://oldemarkt.info/event/digi-cafe-2-2020-02-25/
LOCATION:De Landerijen\, De Weeren 1\, Oldemarkt\, Overijssel\, 8375 CD\, Nederland
END:VEVENT
BEGIN:VEVENT
DTSTART;TZID=Europe/Amsterdam:20200224T080000
DTEND;TZID=Europe/Amsterdam:20200224T170000
DTSTAMP:20260421T064738
CREATED:20190923T131606Z
LAST-MODIFIED:20190923T131606Z
UID:4087-1582531200-1582563600@oldemarkt.info
SUMMARY:Verpleegster in Kameroen door Gerdi van den Broek uit Steenwijk
DESCRIPTION:Plaats:  ”De Ontmoeting”\, Marktplein 9\, 8375 AZ Oldemarkt. Aanvang: 20.00 uur. \nInlichtingen bij: Vrouwkje Visserman-Winters\,  telefoon 0561-451933 \nemail: vrouwkje.visserman@gmail.com
URL:https://oldemarkt.info/event/verpleegster-in-kameroen-door-gerdi-van-den-broek-uit-steenwijk/
LOCATION:De Ontmoeting
END:VEVENT
BEGIN:VEVENT
DTSTART;TZID=Europe/Amsterdam:20200220T193000
DTEND;TZID=Europe/Amsterdam:20200220T220000
DTSTAMP:20260421T064738
CREATED:20200113T105119Z
LAST-MODIFIED:20200113T105119Z
UID:4374-1582227000-1582236000@oldemarkt.info
SUMMARY:OvO Feestavond
DESCRIPTION:
URL:https://oldemarkt.info/event/ovo-feestavond-3/
LOCATION:De Landerijen\, De Weeren 1\, Oldemarkt\, Overijssel\, 8375 CD\, Nederland
END:VEVENT
BEGIN:VEVENT
DTSTART;TZID=Europe/Amsterdam:20200220T090000
DTEND;TZID=Europe/Amsterdam:20200220T120000
DTSTAMP:20260421T064738
CREATED:20200127T072820Z
LAST-MODIFIED:20200127T072820Z
UID:4416-1582189200-1582200000@oldemarkt.info
SUMMARY:WIWA Wandeling
DESCRIPTION:Verzamelen om 9.00 bij de RK. Iedereen is welkom om mee te wandelen!
URL:https://oldemarkt.info/event/wiwa-wandeling-12/
LOCATION:RK Kerk
END:VEVENT
BEGIN:VEVENT
DTSTART;TZID=Europe/Amsterdam:20200220T090000
DTEND;TZID=Europe/Amsterdam:20200220T120000
DTSTAMP:20260421T064738
CREATED:20191227T084855Z
LAST-MODIFIED:20191227T084855Z
UID:4275-1582189200-1582200000@oldemarkt.info
SUMMARY:WIWA wandeling
DESCRIPTION:De WIWA wandeling van Februari staat genoteerd op 20 Februari. Iedereen is welkom\, verzamelen bij de RK om 9:00.
URL:https://oldemarkt.info/event/wiwa-wandeling-11/
LOCATION:RK Kerk
END:VEVENT
BEGIN:VEVENT
DTSTART;TZID=Europe/Amsterdam:20200218T200000
DTEND;TZID=Europe/Amsterdam:20200218T220000
DTSTAMP:20260421T064738
CREATED:20200113T103546Z
LAST-MODIFIED:20200113T103546Z
UID:4345-1582056000-1582063200@oldemarkt.info
SUMMARY:Klaverjassen
DESCRIPTION:
URL:https://oldemarkt.info/event/klaverjassen-4-2020-02-18/
LOCATION:De Landerijen\, De Weeren 1\, Oldemarkt\, Overijssel\, 8375 CD\, Nederland
END:VEVENT
BEGIN:VEVENT
DTSTART;TZID=Europe/Amsterdam:20200215T143000
DTEND;TZID=Europe/Amsterdam:20200215T170000
DTSTAMP:20260421T064738
CREATED:20200113T104913Z
LAST-MODIFIED:20200113T104913Z
UID:4372-1581777000-1581786000@oldemarkt.info
SUMMARY:Filmmiddag Landerijen
DESCRIPTION:
URL:https://oldemarkt.info/event/filmmiddag-landerijen/
LOCATION:De Landerijen\, De Weeren 1\, Oldemarkt\, Overijssel\, 8375 CD\, Nederland
END:VEVENT
BEGIN:VEVENT
DTSTART;TZID=Europe/Amsterdam:20200214T190000
DTEND;TZID=Europe/Amsterdam:20200214T213000
DTSTAMP:20260421T064738
CREATED:20200113T103040Z
LAST-MODIFIED:20200113T103040Z
UID:4338-1581706800-1581715800@oldemarkt.info
SUMMARY:Jeugdhonk: Valentijns Disco
DESCRIPTION:Kosten € 2\,00
URL:https://oldemarkt.info/event/jeugdhonk-valentijns-disco/
LOCATION:Jeugdhonk
END:VEVENT
BEGIN:VEVENT
DTSTART;TZID=Europe/Amsterdam:20200212T200000
DTEND;TZID=Europe/Amsterdam:20200212T220000
DTSTAMP:20260421T064738
CREATED:20200127T210155Z
LAST-MODIFIED:20200127T210155Z
UID:4420-1581537600-1581544800@oldemarkt.info
SUMMARY:Jaarvergadering Historische Vereniging IJsselham
DESCRIPTION:Op woensdag 12 februari 2020 houdt de Historische Vereniging IJsselham haar jaarvergadering in De Gele Lis\, Hoogeweg 27a in Ossenzijl. In deze vergadering wordt teruggekeken naar de activiteiten van afgelopen jaar en de plannen voor het nieuwe verenigingsjaar worden besproken. Na de jaarvergadering neemt Dhr. Johannes ten Have uit Blankenham ons d.m.v. verhalen\, objecten en door hemzelf gemaakte liedjes mee naar het eiland Schokland vlak voor\, tijdens en direct na de ontruiming in 1859. \nDe vergadering begint om 20.00 uur en de activiteit begint om ongeveer 21.00 uur en is voor leden van de HVIJ gratis bij te wonen. \nAan belangstellenden wordt een kleine bijdrage gevraagd.
URL:https://oldemarkt.info/event/jaarvergadering-historische-vereniging-ijsselham/
LOCATION:De Gele Lis
END:VEVENT
BEGIN:VEVENT
DTSTART;TZID=Europe/Amsterdam:20200211T143000
DTEND;TZID=Europe/Amsterdam:20200211T170000
DTSTAMP:20260421T064738
CREATED:20191014T185639Z
LAST-MODIFIED:20191014T185639Z
UID:4167-1581431400-1581440400@oldemarkt.info
SUMMARY:E-readers
DESCRIPTION:
URL:https://oldemarkt.info/event/e-readers/
LOCATION:De Landerijen\, De Weeren 1\, Oldemarkt\, Overijssel\, 8375 CD\, Nederland
END:VEVENT
BEGIN:VEVENT
DTSTART;TZID=Europe/Amsterdam:20200204T200000
DTEND;TZID=Europe/Amsterdam:20200204T220000
DTSTAMP:20260421T064738
CREATED:20200113T103546Z
LAST-MODIFIED:20200113T103546Z
UID:4344-1580846400-1580853600@oldemarkt.info
SUMMARY:Klaverjassen
DESCRIPTION:
URL:https://oldemarkt.info/event/klaverjassen-4-2020-02-04/
LOCATION:De Landerijen\, De Weeren 1\, Oldemarkt\, Overijssel\, 8375 CD\, Nederland
END:VEVENT
END:VCALENDAR