
BEGIN:VCALENDAR
VERSION:2.0
PRODID:-//Oldemarkt een prachtige ontdekking - ECPv6.15.15//NONSGML v1.0//EN
CALSCALE:GREGORIAN
METHOD:PUBLISH
X-WR-CALNAME:Oldemarkt een prachtige ontdekking
X-ORIGINAL-URL:https://oldemarkt.info
X-WR-CALDESC:Evenementen voor Oldemarkt een prachtige ontdekking
REFRESH-INTERVAL;VALUE=DURATION:PT1H
X-Robots-Tag:noindex
X-PUBLISHED-TTL:PT1H
BEGIN:VTIMEZONE
TZID:Europe/Amsterdam
BEGIN:DAYLIGHT
TZOFFSETFROM:+0100
TZOFFSETTO:+0200
TZNAME:CEST
DTSTART:20190331T010000
END:DAYLIGHT
BEGIN:STANDARD
TZOFFSETFROM:+0200
TZOFFSETTO:+0100
TZNAME:CET
DTSTART:20191027T010000
END:STANDARD
BEGIN:DAYLIGHT
TZOFFSETFROM:+0100
TZOFFSETTO:+0200
TZNAME:CEST
DTSTART:20200329T010000
END:DAYLIGHT
BEGIN:STANDARD
TZOFFSETFROM:+0200
TZOFFSETTO:+0100
TZNAME:CET
DTSTART:20201025T010000
END:STANDARD
BEGIN:DAYLIGHT
TZOFFSETFROM:+0100
TZOFFSETTO:+0200
TZNAME:CEST
DTSTART:20210328T010000
END:DAYLIGHT
BEGIN:STANDARD
TZOFFSETFROM:+0200
TZOFFSETTO:+0100
TZNAME:CET
DTSTART:20211031T010000
END:STANDARD
BEGIN:DAYLIGHT
TZOFFSETFROM:+0100
TZOFFSETTO:+0200
TZNAME:CEST
DTSTART:20220327T010000
END:DAYLIGHT
BEGIN:STANDARD
TZOFFSETFROM:+0200
TZOFFSETTO:+0100
TZNAME:CET
DTSTART:20221030T010000
END:STANDARD
END:VTIMEZONE
BEGIN:VEVENT
DTSTART;TZID=Europe/Amsterdam:20211005T191500
DTEND;TZID=Europe/Amsterdam:20211005T203000
DTSTAMP:20260420T053222
CREATED:20210819T142440Z
LAST-MODIFIED:20210819T142440Z
UID:4836-1633461300-1633465800@oldemarkt.info
SUMMARY:Salsa Dansavond Dalzicht
DESCRIPTION:De 8 wekelijkse cursus voor beginners en de vervolgcursus start op dinsdagavond 14 september om 19.15 en 20.30 uur. Je kunt je daarvoor opgeven als echtpaar\, met vrienden stellen\, maar als eenling ben je ook welkom\, de dansschool heeft in overleg ervaren danspartners beschikbaar. \nWil je meer weten? Mail voor meer info naar: info@salseromboka.nl
URL:https://oldemarkt.info/event/salsa-dansavond-dalzicht-3/
LOCATION:MFC Dalzicht
END:VEVENT
BEGIN:VEVENT
DTSTART;TZID=Europe/Amsterdam:20210928T191500
DTEND;TZID=Europe/Amsterdam:20210928T203000
DTSTAMP:20260420T053222
CREATED:20210819T142327Z
LAST-MODIFIED:20210819T142327Z
UID:4834-1632856500-1632861000@oldemarkt.info
SUMMARY:Salsa Dansavond Dalzicht
DESCRIPTION:De 8 wekelijkse cursus voor beginners en de vervolgcursus start op dinsdagavond 14 september om 19.15 en 20.30 uur. Je kunt je daarvoor opgeven als echtpaar\, met vrienden stellen\, maar als eenling ben je ook welkom\, de dansschool heeft in overleg ervaren danspartners beschikbaar. \nWil je meer weten? Mail voor meer info naar: info@salseromboka.nl
URL:https://oldemarkt.info/event/salsa-dansavond-dalzicht-2/
LOCATION:MFC Dalzicht
END:VEVENT
BEGIN:VEVENT
DTSTART;TZID=Europe/Amsterdam:20210927T200000
DTEND;TZID=Europe/Amsterdam:20210927T220000
DTSTAMP:20260420T053222
CREATED:20210830T114718Z
LAST-MODIFIED:20210830T114718Z
UID:4850-1632772800-1632780000@oldemarkt.info
SUMMARY:Bijeenkomst Passage\, chr. maatsch. vrouwenbeweging
DESCRIPTION:Bijeenkomsten van Passage\, chr. maatsch. vrouwenbeweging\, Oldemarkt-Paasloo (Passagevrouwen). Elke avond begint om 20.00 uur in De Ontmoeting\, Marktplein 9\, Oldemarkt.
URL:https://oldemarkt.info/event/bijeenkomst-passage-chr-maatsch-vrouwenbeweging/
LOCATION:De Ontmoeting
END:VEVENT
BEGIN:VEVENT
DTSTART;TZID=Europe/Amsterdam:20210921T191500
DTEND;TZID=Europe/Amsterdam:20210921T203000
DTSTAMP:20260420T053222
CREATED:20210819T142241Z
LAST-MODIFIED:20210819T142241Z
UID:4832-1632251700-1632256200@oldemarkt.info
SUMMARY:Salsa Dansavond Dalzicht
DESCRIPTION:De 8 wekelijkse cursus voor beginners en de vervolgcursus start op dinsdagavond 14 september om 19.15 en 20.30 uur. Je kunt je daarvoor opgeven als echtpaar\, met vrienden stellen\, maar als eenling ben je ook welkom\, de dansschool heeft in overleg ervaren danspartners beschikbaar. Wil je meer weten? \n  \nMail voor meer info naar: info@salseromboka.nl
URL:https://oldemarkt.info/event/salsa-dansavond-dalzicht/
LOCATION:MFC Dalzicht
END:VEVENT
BEGIN:VEVENT
DTSTART;TZID=Europe/Amsterdam:20210914T191500
DTEND;TZID=Europe/Amsterdam:20210914T203000
DTSTAMP:20260420T053222
CREATED:20210819T142049Z
LAST-MODIFIED:20210819T142049Z
UID:4830-1631646900-1631651400@oldemarkt.info
SUMMARY:Salsa dansavond in Dalzicht
DESCRIPTION:De 8 wekelijkse cursus voor beginners en de vervolgcursus start op dinsdagavond 14 september om 19.15 en 20.30 uur. Je kunt je daarvoor opgeven als echtpaar\, met vrienden stellen\, maar als eenling ben je ook welkom\, de dansschool heeft in overleg ervaren danspartners beschikbaar. \nWil je meer weten? Mail voor meer info naar: info@salseromboka.nl
URL:https://oldemarkt.info/event/salsa-dansavond-in-dalzicht/
LOCATION:MFC Dalzicht
END:VEVENT
BEGIN:VEVENT
DTSTART;TZID=Europe/Amsterdam:20210831T193000
DTEND;TZID=Europe/Amsterdam:20210831T203000
DTSTAMP:20260420T053222
CREATED:20210819T141822Z
LAST-MODIFIED:20210819T141822Z
UID:4828-1630438200-1630441800@oldemarkt.info
SUMMARY:Salsa kennismakings-dansavond in Dalzicht
DESCRIPTION:Oldemarkt-  Kom op dinsdagavond 31 augustus kennismaken\, kijken\, meedansen\, met enkele Salsa dansstijlen op deze swingende Salsa dansavond! \nVanaf 19.30 uur is iedereen welkom in Multi Functioneel Centrum Dalzicht\, Frieseweg 39 in Oldemarkt. Dit is een gratis proefavond\, ook voor onervaren dansliefhebbers uit Oldemarkt en omgeving. Mboka is een ervaren Salsa-dansleraar die met positieve energie én met danspartner Femke iedereen de dansmoves van Salsa bijbrengt. Geniet tussendoor van een drankje en praatje op het gezellige terras van Dalzicht of op het sfeervolle horecaplein binnen. \nDe 8 wekelijkse cursus voor beginners en de vervolgcursus start op dinsdagavond 14 september om 19.15 en 20.30 uur. Je kunt je daarvoor opgeven als echtpaar\, met vrienden stellen\, maar als eenling ben je ook welkom\, de dansschool heeft in overleg ervaren danspartners beschikbaar. \nWil je meer weten? Mail voor meer info naar: info@salseromboka.nl
URL:https://oldemarkt.info/event/salsa-kennismakings-dansavond-in-dalzicht/
LOCATION:MFC Dalzicht
END:VEVENT
BEGIN:VEVENT
DTSTART;TZID=Europe/Amsterdam:20210626T093000
DTEND;TZID=Europe/Amsterdam:20210626T160000
DTSTAMP:20260420T053222
CREATED:20210606T183312Z
LAST-MODIFIED:20210606T183312Z
UID:4803-1624699800-1624723200@oldemarkt.info
SUMMARY:Schuurverkoop Oldemarkt
DESCRIPTION:Zaterdag 26 juni is er weer schuurverkoop in Oldemarkt\, van 9.30 uur tot 16.00 uur. \nOp een veilige wijze kunnen mensen vanaf eigen oprit\, in hun tuin of eventueel schuur of garage overtollige spullen verkopen\, van grasmaaier\, keukenspullen\, planten\,  boeken tot kano’s\, kinderspeelgoed noem maar op. “En daarvoor zijn we nog op zoek naar deelnemers”\, melden een enthousiaste Andrea ter Horst en Marieke Pit. Hun vraag aan Oldemarkers luidt dan ook:  “wil je meedoen met de schuurverkoop?” Meld je dan aan via de link op de facebook pagina Schuurverkoop Oldemarkt of via de mail schuurverkoopoldemarkt@gmail.com. De kosten voor de organisatie bedragen 2 euro. “We verspreiden en maken posters en plattegrondjes\, delen berichten op facebook\, en we nodigen de deelnemers uit om op zaterdag 26 juni de Oldemarkter vlag uit te hangen\, een welkombord aan de weg te zetten zodat duidelijk is waar de koopjes te scoren zijn!”
URL:https://oldemarkt.info/event/schuurverkoop-oldemarkt-3/
LOCATION:Oldemarkt
END:VEVENT
BEGIN:VEVENT
DTSTART;TZID=Europe/Amsterdam:20210218T193000
DTEND;TZID=Europe/Amsterdam:20210218T203000
DTSTAMP:20260420T053222
CREATED:20210207T213036Z
LAST-MODIFIED:20210207T213036Z
UID:4747-1613676600-1613680200@oldemarkt.info
SUMMARY:Algemene Leden Vergadering PBO
DESCRIPTION:Uitnodiging PBO ALV 2021
URL:https://oldemarkt.info/event/algemene-leden-vergadering-pbo-2/
ORGANIZER;CN="PBO":MAILTO:secretaris@oldemarkt.info
END:VEVENT
BEGIN:VEVENT
DTSTART;TZID=Europe/Amsterdam:20201222T190000
DTEND;TZID=Europe/Amsterdam:20201222T220000
DTSTAMP:20260420T053222
CREATED:20201025T191620Z
LAST-MODIFIED:20201025T191620Z
UID:4681-1608663600-1608674400@oldemarkt.info
SUMMARY:Salsa dansles in Dalzicht
DESCRIPTION:Salsa dansles in Dalzicht\, 19:15 en 20.30
URL:https://oldemarkt.info/event/salsa-dansles-in-dalzicht-2020-12-22/
LOCATION:MFC Dalzicht
END:VEVENT
BEGIN:VEVENT
DTSTART;TZID=Europe/Amsterdam:20201215T190000
DTEND;TZID=Europe/Amsterdam:20201215T220000
DTSTAMP:20260420T053222
CREATED:20201025T191620Z
LAST-MODIFIED:20201025T191620Z
UID:4680-1608058800-1608069600@oldemarkt.info
SUMMARY:Salsa dansles in Dalzicht
DESCRIPTION:Salsa dansles in Dalzicht\, 19:15 en 20.30
URL:https://oldemarkt.info/event/salsa-dansles-in-dalzicht-2020-12-15/
LOCATION:MFC Dalzicht
END:VEVENT
BEGIN:VEVENT
DTSTART;TZID=Europe/Amsterdam:20201208T190000
DTEND;TZID=Europe/Amsterdam:20201208T220000
DTSTAMP:20260420T053222
CREATED:20201025T191620Z
LAST-MODIFIED:20201025T191620Z
UID:4679-1607454000-1607464800@oldemarkt.info
SUMMARY:Salsa dansles in Dalzicht
DESCRIPTION:Salsa dansles in Dalzicht\, 19:15 en 20.30
URL:https://oldemarkt.info/event/salsa-dansles-in-dalzicht-2020-12-08/
LOCATION:MFC Dalzicht
END:VEVENT
BEGIN:VEVENT
DTSTART;TZID=Europe/Amsterdam:20201201T190000
DTEND;TZID=Europe/Amsterdam:20201201T220000
DTSTAMP:20260420T053222
CREATED:20201025T191620Z
LAST-MODIFIED:20201025T191620Z
UID:4678-1606849200-1606860000@oldemarkt.info
SUMMARY:Salsa dansles in Dalzicht
DESCRIPTION:Salsa dansles in Dalzicht\, 19:15 en 20.30
URL:https://oldemarkt.info/event/salsa-dansles-in-dalzicht-2020-12-01/
LOCATION:MFC Dalzicht
END:VEVENT
BEGIN:VEVENT
DTSTART;TZID=Europe/Amsterdam:20201128T143000
DTEND;TZID=Europe/Amsterdam:20201128T170000
DTSTAMP:20260420T053222
CREATED:20200113T104454Z
LAST-MODIFIED:20200113T104454Z
UID:4365-1606573800-1606582800@oldemarkt.info
SUMMARY:Soos 50+ ers
DESCRIPTION:
URL:https://oldemarkt.info/event/soos-50-ers-10-2020-11-28/
LOCATION:De Landerijen\, De Weeren 1\, Oldemarkt\, Overijssel\, 8375 CD\, Nederland
END:VEVENT
BEGIN:VEVENT
DTSTART;TZID=Europe/Amsterdam:20201124T190000
DTEND;TZID=Europe/Amsterdam:20201124T220000
DTSTAMP:20260420T053222
CREATED:20201025T191620Z
LAST-MODIFIED:20201025T191620Z
UID:4677-1606244400-1606255200@oldemarkt.info
SUMMARY:Salsa dansles in Dalzicht
DESCRIPTION:Salsa dansles in Dalzicht\, 19:15 en 20.30
URL:https://oldemarkt.info/event/salsa-dansles-in-dalzicht-2020-11-24/
LOCATION:MFC Dalzicht
END:VEVENT
BEGIN:VEVENT
DTSTART;TZID=Europe/Amsterdam:20201110T190000
DTEND;TZID=Europe/Amsterdam:20201110T220000
DTSTAMP:20260420T053222
CREATED:20201025T191620Z
LAST-MODIFIED:20201025T191620Z
UID:4676-1605034800-1605045600@oldemarkt.info
SUMMARY:Salsa dansles in Dalzicht
DESCRIPTION:Salsa dansles in Dalzicht\, 19:15 en 20.30
URL:https://oldemarkt.info/event/salsa-dansles-in-dalzicht-2020-11-10/
LOCATION:MFC Dalzicht
END:VEVENT
BEGIN:VEVENT
DTSTART;TZID=Europe/Amsterdam:20201106T190000
DTEND;TZID=Europe/Amsterdam:20201106T213000
DTSTAMP:20260420T053222
CREATED:20200924T113636Z
LAST-MODIFIED:20200924T113636Z
UID:4640-1604689200-1604698200@oldemarkt.info
SUMMARY:Kidskledingbeurs 2020
DESCRIPTION:
URL:https://oldemarkt.info/event/kidskledingbeurs-2020/
LOCATION:MFC Dalzicht
END:VEVENT
BEGIN:VEVENT
DTSTART;TZID=Europe/Amsterdam:20201103T190000
DTEND;TZID=Europe/Amsterdam:20201103T220000
DTSTAMP:20260420T053222
CREATED:20201025T191620Z
LAST-MODIFIED:20201025T191620Z
UID:4675-1604430000-1604440800@oldemarkt.info
SUMMARY:Salsa dansles in Dalzicht
DESCRIPTION:Salsa dansles in Dalzicht\, 19:15 en 20.30
URL:https://oldemarkt.info/event/salsa-dansles-in-dalzicht-2020-11-03/
LOCATION:MFC Dalzicht
END:VEVENT
BEGIN:VEVENT
DTSTART;TZID=Europe/Amsterdam:20201031T143000
DTEND;TZID=Europe/Amsterdam:20201031T170000
DTSTAMP:20260420T053222
CREATED:20200113T104454Z
LAST-MODIFIED:20200113T104454Z
UID:4364-1604154600-1604163600@oldemarkt.info
SUMMARY:Soos 50+ ers
DESCRIPTION:
URL:https://oldemarkt.info/event/soos-50-ers-10-2020-10-31/
LOCATION:De Landerijen\, De Weeren 1\, Oldemarkt\, Overijssel\, 8375 CD\, Nederland
END:VEVENT
BEGIN:VEVENT
DTSTART;TZID=Europe/Amsterdam:20201027T190000
DTEND;TZID=Europe/Amsterdam:20201027T220000
DTSTAMP:20260420T053222
CREATED:20201025T191620Z
LAST-MODIFIED:20201025T191620Z
UID:4673-1603825200-1603836000@oldemarkt.info
SUMMARY:Salsa dansles in Dalzicht
DESCRIPTION:Salsa dansles in Dalzicht\, 19:15 en 20.30
URL:https://oldemarkt.info/event/salsa-dansles-in-dalzicht/
LOCATION:MFC Dalzicht
END:VEVENT
BEGIN:VEVENT
DTSTART;TZID=Europe/Amsterdam:20200927T200000
DTEND;TZID=Europe/Amsterdam:20200927T220000
DTSTAMP:20260420T053222
CREATED:20200923T133737Z
LAST-MODIFIED:20200923T133737Z
UID:4636-1601236800-1601244000@oldemarkt.info
SUMMARY:Salsa Danslessen
DESCRIPTION:Ook zin in Salsa danslessen?\n\nWaar: in Dalzicht.\nWanneer: dinsdagavond 27 oktober.\nWie: lessen van Mboka\, Salseromboka Dancing Centre.\nWat kost het: acht beginnerslessen € 70\,- p.p.\nCoronaproef? Ja\, je danst met eigen partner in een ruime zaal. Geniet na afloop op anderhalve meter van een drankje.\n\n\n\nMail bij interesse: mariekepit@gmail.com
URL:https://oldemarkt.info/event/salsa-danslessen/
LOCATION:MFC Dalzicht
END:VEVENT
BEGIN:VEVENT
DTSTART;TZID=Europe/Amsterdam:20200927T080000
DTEND;TZID=Europe/Amsterdam:20200927T170000
DTSTAMP:20260420T053222
CREATED:20200927T124312Z
LAST-MODIFIED:20200927T124312Z
UID:4645-1601193600-1601226000@oldemarkt.info
SUMMARY:OvO-middag met Het Land van de grote vuurvlinder
DESCRIPTION:De ouderenvereniging OvO in Oldemarkt organiseert voor haar leden weer een bijeenkomst. Dit zal zijn op dinsdag 6 oktober om 14.30 uur in De Landerijen in Oldemarkt. Na de coronaperiode is dit de tweede bijeenkomst die gehouden wordt. In verband met de nog steeds heersende veiligheidsvoorschriften worden deze  ook hier strikt in acht genomen. De middag wordt verzorgd door de in Oldemarkt wonende fotograaf Philip Friscorn\, die met woord en beeld het land van de grote Vuurvlinder zal laten zien.\nHet belooft een boeiende en kleurrijke middag te worden. \nDe kosten voor deze middag zijn voor leden € 2\,-\, niet leden betalen € 4\,-. \nIn verband met de corona maatregelen dient u zich van te voren wel op te geven\, dit kan bij Joke Smit\, tel. 0561-450596 of mail naar jcjfortuin@gmail.com.
URL:https://oldemarkt.info/event/ovo-middag-met-het-land-van-de-grote-vuurvlinder/
END:VEVENT
BEGIN:VEVENT
DTSTART;TZID=Europe/Amsterdam:20200926T143000
DTEND;TZID=Europe/Amsterdam:20200926T170000
DTSTAMP:20260420T053222
CREATED:20200113T104454Z
LAST-MODIFIED:20200113T104454Z
UID:4363-1601130600-1601139600@oldemarkt.info
SUMMARY:Soos 50+ ers
DESCRIPTION:
URL:https://oldemarkt.info/event/soos-50-ers-10-2020-09-26/
LOCATION:De Landerijen\, De Weeren 1\, Oldemarkt\, Overijssel\, 8375 CD\, Nederland
END:VEVENT
BEGIN:VEVENT
DTSTART;TZID=Europe/Amsterdam:20200829T143000
DTEND;TZID=Europe/Amsterdam:20200829T170000
DTSTAMP:20260420T053222
CREATED:20200113T104454Z
LAST-MODIFIED:20200113T104454Z
UID:4362-1598711400-1598720400@oldemarkt.info
SUMMARY:Soos 50+ ers
DESCRIPTION:
URL:https://oldemarkt.info/event/soos-50-ers-10-2020-08-29/
LOCATION:De Landerijen\, De Weeren 1\, Oldemarkt\, Overijssel\, 8375 CD\, Nederland
END:VEVENT
BEGIN:VEVENT
DTSTART;TZID=Europe/Amsterdam:20200725T143000
DTEND;TZID=Europe/Amsterdam:20200725T170000
DTSTAMP:20260420T053222
CREATED:20200113T104454Z
LAST-MODIFIED:20200113T104454Z
UID:4361-1595687400-1595696400@oldemarkt.info
SUMMARY:Soos 50+ ers
DESCRIPTION:
URL:https://oldemarkt.info/event/soos-50-ers-10-2020-07-25/
LOCATION:De Landerijen\, De Weeren 1\, Oldemarkt\, Overijssel\, 8375 CD\, Nederland
END:VEVENT
BEGIN:VEVENT
DTSTART;TZID=Europe/Amsterdam:20200627T143000
DTEND;TZID=Europe/Amsterdam:20200627T170000
DTSTAMP:20260420T053222
CREATED:20200113T104454Z
LAST-MODIFIED:20200113T104454Z
UID:4360-1593268200-1593277200@oldemarkt.info
SUMMARY:Soos 50+ ers
DESCRIPTION:
URL:https://oldemarkt.info/event/soos-50-ers-10-2020-06-27/
LOCATION:De Landerijen\, De Weeren 1\, Oldemarkt\, Overijssel\, 8375 CD\, Nederland
END:VEVENT
BEGIN:VEVENT
DTSTART;TZID=Europe/Amsterdam:20200610T133000
DTEND;TZID=Europe/Amsterdam:20200610T170000
DTSTAMP:20260420T053222
CREATED:20200113T103137Z
LAST-MODIFIED:20200113T103137Z
UID:4340-1591795800-1591808400@oldemarkt.info
SUMMARY:Buitenspeeldag
DESCRIPTION:
URL:https://oldemarkt.info/event/buitenspeeldag-3/
LOCATION:Hoofdstraat/Molenkamp
END:VEVENT
BEGIN:VEVENT
DTSTART;TZID=Europe/Amsterdam:20200602T121500
DTEND;TZID=Europe/Amsterdam:20200602T133000
DTSTAMP:20260420T053222
CREATED:20200113T104747Z
LAST-MODIFIED:20200113T104747Z
UID:4371-1591100100-1591104600@oldemarkt.info
SUMMARY:Maaltijd 40+ ers
DESCRIPTION:
URL:https://oldemarkt.info/event/maaltijd-40-ers-10-2020-06-02/
LOCATION:De Landerijen\, De Weeren 1\, Oldemarkt\, Overijssel\, 8375 CD\, Nederland
END:VEVENT
BEGIN:VEVENT
DTSTART;TZID=Europe/Amsterdam:20200530T143000
DTEND;TZID=Europe/Amsterdam:20200530T170000
DTSTAMP:20260420T053222
CREATED:20200113T104454Z
LAST-MODIFIED:20200113T104454Z
UID:4359-1590849000-1590858000@oldemarkt.info
SUMMARY:Soos 50+ ers
DESCRIPTION:
URL:https://oldemarkt.info/event/soos-50-ers-10-2020-05-30/
LOCATION:De Landerijen\, De Weeren 1\, Oldemarkt\, Overijssel\, 8375 CD\, Nederland
END:VEVENT
BEGIN:VEVENT
DTSTART;TZID=Europe/Amsterdam:20200521T100000
DTEND;TZID=Europe/Amsterdam:20200521T130000
DTSTAMP:20260420T053222
CREATED:20200512T154608Z
LAST-MODIFIED:20200512T154911Z
UID:4552-1590055200-1590066000@oldemarkt.info
SUMMARY:Draaiorgel ‘Grote Dorus’ vrolijkt Oldemarkter Hemelvaartsdag op.
DESCRIPTION:Wat is het toch een stille tijd\, geen enkel evenement om naar toe te gaan\, elkaar daar even te spreken en plezier met elkaar te maken. Dit jaar ook geen Lambertusmarkt in Oldemarkt op Hemelvaartsdag. Een druk bezochte gezellige markt\, waar naast het scoren van diverse koopjes\, Oldemarker inwoners elkaar weer eens treffen.  \nVooral voor ouderen waarvan velen alleen wonen is het een stille tijd. Als je het geluk hebt om in De Landerijen te wonen dan heb je als bewoner kunnen genieten van diverse binnentuin concerten en optredens. Zoiets zou toch ook leuk zijn voor ouderen die elders in het dorp wonen. Ideeën werden geopperd en zo sloegen de Ouderen Vereniging Oldemarkt\, Plaatselijk Belang Oldemarkt en het Bestuur van Stichting De Landerijen de handen ineen.  \nAls haalbaar initiatief voor een vrolijke muzikale invulling\,  is gekozen om de vrijwilligers van het draaiorgel ‘Grote Dorus’ uit Wolvega te benaderen. De vrijwilligers van dit draaiorgel maken tijd om op Hemelvaartsdag het dorp Oldemarkt met  vrolijke klanken op te fleuren. Donderdag 21 mei om 10.00 uur start het draaiorgel ‘Grote Dorus’ bij Multifunctioneel Centrum Dalzicht om vervolgens tot ongeveer 13.00 uur een muzikale rondgang door Oldemarkt te maken. PBO\, OVO en Stichting De Landerijen wensen een ieder veel plezier\, geniet van de muziek en blijf op anderhalve meter afstand! 
URL:https://oldemarkt.info/event/draaiorgel-grote-dorus/
LOCATION:Oldemarkt
END:VEVENT
BEGIN:VEVENT
DTSTART;TZID=Europe/Amsterdam:20200505T121500
DTEND;TZID=Europe/Amsterdam:20200505T133000
DTSTAMP:20260420T053222
CREATED:20200113T104747Z
LAST-MODIFIED:20200113T104747Z
UID:4370-1588680900-1588685400@oldemarkt.info
SUMMARY:Maaltijd 40+ ers
DESCRIPTION:
URL:https://oldemarkt.info/event/maaltijd-40-ers-10-2020-05-05/
LOCATION:De Landerijen\, De Weeren 1\, Oldemarkt\, Overijssel\, 8375 CD\, Nederland
END:VEVENT
END:VCALENDAR