
BEGIN:VCALENDAR
VERSION:2.0
PRODID:-//Oldemarkt een prachtige ontdekking - ECPv6.15.15//NONSGML v1.0//EN
CALSCALE:GREGORIAN
METHOD:PUBLISH
X-WR-CALNAME:Oldemarkt een prachtige ontdekking
X-ORIGINAL-URL:https://oldemarkt.info
X-WR-CALDESC:Evenementen voor Oldemarkt een prachtige ontdekking
REFRESH-INTERVAL;VALUE=DURATION:PT1H
X-Robots-Tag:noindex
X-PUBLISHED-TTL:PT1H
BEGIN:VTIMEZONE
TZID:Europe/Amsterdam
BEGIN:DAYLIGHT
TZOFFSETFROM:+0100
TZOFFSETTO:+0200
TZNAME:CEST
DTSTART:20180325T010000
END:DAYLIGHT
BEGIN:STANDARD
TZOFFSETFROM:+0200
TZOFFSETTO:+0100
TZNAME:CET
DTSTART:20181028T010000
END:STANDARD
BEGIN:DAYLIGHT
TZOFFSETFROM:+0100
TZOFFSETTO:+0200
TZNAME:CEST
DTSTART:20190331T010000
END:DAYLIGHT
BEGIN:STANDARD
TZOFFSETFROM:+0200
TZOFFSETTO:+0100
TZNAME:CET
DTSTART:20191027T010000
END:STANDARD
BEGIN:DAYLIGHT
TZOFFSETFROM:+0100
TZOFFSETTO:+0200
TZNAME:CEST
DTSTART:20200329T010000
END:DAYLIGHT
BEGIN:STANDARD
TZOFFSETFROM:+0200
TZOFFSETTO:+0100
TZNAME:CET
DTSTART:20201025T010000
END:STANDARD
BEGIN:DAYLIGHT
TZOFFSETFROM:+0100
TZOFFSETTO:+0200
TZNAME:CEST
DTSTART:20210328T010000
END:DAYLIGHT
BEGIN:STANDARD
TZOFFSETFROM:+0200
TZOFFSETTO:+0100
TZNAME:CET
DTSTART:20211031T010000
END:STANDARD
END:VTIMEZONE
BEGIN:VEVENT
DTSTART;TZID=Europe/Amsterdam:20200204T121500
DTEND;TZID=Europe/Amsterdam:20200204T133000
DTSTAMP:20260421T044827
CREATED:20200113T104747Z
LAST-MODIFIED:20200113T104747Z
UID:4366-1580818500-1580823000@oldemarkt.info
SUMMARY:Maaltijd 40+ ers
DESCRIPTION:
URL:https://oldemarkt.info/event/maaltijd-40-ers-10/
LOCATION:De Landerijen\, De Weeren 1\, Oldemarkt\, Overijssel\, 8375 CD\, Nederland
END:VEVENT
BEGIN:VEVENT
DTSTART;TZID=Europe/Amsterdam:20200202T133000
DTEND;TZID=Europe/Amsterdam:20200202T170000
DTSTAMP:20260421T044827
CREATED:20191008T123415Z
LAST-MODIFIED:20191008T123415Z
UID:4126-1580650200-1580662800@oldemarkt.info
SUMMARY:Midwinterwandeling 
DESCRIPTION:Midwinterwandeling zondag 2 februari 2020. \nStarten tussen 13.30 en 14.00 uur\, MFC Dalzicht.\nRoute van 7 km en 12 km rondom Oldemarkt.
URL:https://oldemarkt.info/event/midwinterwandeling/
LOCATION:MFC Dalzicht
END:VEVENT
BEGIN:VEVENT
DTSTART;TZID=Europe/Amsterdam:20200201T193000
DTEND;TZID=Europe/Amsterdam:20200201T223000
DTSTAMP:20260421T044827
CREATED:20200119T212652Z
LAST-MODIFIED:20200119T212652Z
UID:4408-1580585400-1580596200@oldemarkt.info
SUMMARY:Talitha Nawijn in Hervormde Kerk Oldemarkt Paasloo
DESCRIPTION:Zaterdag 1 februari 2020 komt Talitha Nawijn bij ons in de kerk zingen. \nTalitha kruipt in de huid van mensen uit de tijd van de Jezus en neemt je mee door verhalen\, luisterliederen en meezingers. \nZe wordt op de piano begeleidt door toestsenkunstenaar Henk Doest. \nKaartjes zijn te bestellen via zingenindekerk.nl. Ze kosten 10 euro p.p.. \nAllen van harte welkom! \nAanvang 20:00 uur\, kerk open vanaf 19:30 uur. \nHervormde Gemeente Oldemarkt Paasloo \nMarktplein 7 in Oldemarkt
URL:https://oldemarkt.info/event/talitha-nawijn-in-hervormde-kerk-oldemarkt-paasloo/
LOCATION:Marktplein
END:VEVENT
BEGIN:VEVENT
DTSTART;TZID=Europe/Amsterdam:20200131T193000
DTEND;TZID=Europe/Amsterdam:20200131T213000
DTSTAMP:20260421T044827
CREATED:20200113T095802Z
LAST-MODIFIED:20200113T095802Z
UID:4328-1580499000-1580506200@oldemarkt.info
SUMMARY:Filmhuis: "Bohemian Rhapsody"
DESCRIPTION:
URL:https://oldemarkt.info/event/filmhuis-bohemian-rhapsody/
END:VEVENT
BEGIN:VEVENT
DTSTART;TZID=Europe/Amsterdam:20200128T143000
DTEND;TZID=Europe/Amsterdam:20200128T170000
DTSTAMP:20260421T044827
CREATED:20200113T092557Z
LAST-MODIFIED:20200113T092557Z
UID:4318-1580221800-1580230800@oldemarkt.info
SUMMARY:Kennismaken met tablets
DESCRIPTION:
URL:https://oldemarkt.info/event/kennismaken-met-tablets-2/
LOCATION:De Landerijen\, De Weeren 1\, Oldemarkt\, Overijssel\, 8375 CD\, Nederland
END:VEVENT
BEGIN:VEVENT
DTSTART;TZID=Europe/Amsterdam:20200128T100000
DTEND;TZID=Europe/Amsterdam:20200128T120000
DTSTAMP:20260421T044827
CREATED:20200113T092755Z
LAST-MODIFIED:20200113T092755Z
UID:4320-1580205600-1580212800@oldemarkt.info
SUMMARY:Digi-café
DESCRIPTION:
URL:https://oldemarkt.info/event/digi-cafe-2/
LOCATION:De Landerijen\, De Weeren 1\, Oldemarkt\, Overijssel\, 8375 CD\, Nederland
END:VEVENT
BEGIN:VEVENT
DTSTART;TZID=Europe/Amsterdam:20200127T200000
DTEND;TZID=Europe/Amsterdam:20200127T220000
DTSTAMP:20260421T044827
CREATED:20200105T160108Z
LAST-MODIFIED:20200105T160108Z
UID:4293-1580155200-1580162400@oldemarkt.info
SUMMARY:Lezing: “Historie van de binnenvaart eind 19e eeuw”
DESCRIPTION:In 2002 ging George Snijder wonen op de Aeolus waardoor hij geïnteresseerd raakte in de oude binnenvaart. Na lid te zijn geworden van de behoudsvereniging LVBHB werd hij al snel coördinator/hoofdredacteur van het verenigingstijdschrift de Bokkepoot. Inmiddels combineert hij zijn belangstelling voor geschiedenis met schrijven over de binnenvaart. Zijn boeken hierover geeft hij uit via zijn non-profit uitgeverij Aeolus. \nOp woensdag 22-01-2020 komt George naar De Eikenhof\, Paasloërweg 12 in Paasloo om zijn verhalen over de binnenvaart van eind 19e eeuw tot aan WO II met voorbeelden uit onze regio aan de leden van de Historische Vereniging IJsselham en aan belangstellenden te vertellen. \nDe lezing begint om 20.00 uur en is voor leden van de HVIJ gratis bij te wonen. \nAan belangstellenden wordt een kleine bijdrage gevraagd. \n 
URL:https://oldemarkt.info/event/lezing-historie-van-de-binnenvaart-eind-19e-eeuw/
LOCATION:De Eikenhof
END:VEVENT
BEGIN:VEVENT
DTSTART;TZID=Europe/Amsterdam:20200127T200000
DTEND;TZID=Europe/Amsterdam:20200127T220000
DTSTAMP:20260421T044827
CREATED:20190923T131526Z
LAST-MODIFIED:20190923T131526Z
UID:4085-1580155200-1580162400@oldemarkt.info
SUMMARY:Stenen schatten uit de aarde door Gerard Mulder uit Oldemarkt
DESCRIPTION:Plaats:  ”De Ontmoeting”\, Marktplein 9\, 8375 AZ Oldemarkt. Aanvang: 20.00 uur. \nInlichtingen bij: Vrouwkje Visserman-Winters\,  telefoon 0561-451933 \nemail: vrouwkje.visserman@gmail.com
URL:https://oldemarkt.info/event/stenen-schatten-uit-de-aarde-door-gerard-mulder-uit-oldemarkt/
LOCATION:De Ontmoeting
END:VEVENT
BEGIN:VEVENT
DTSTART;TZID=Europe/Amsterdam:20200126T143000
DTEND;TZID=Europe/Amsterdam:20200126T170000
DTSTAMP:20260421T044827
CREATED:20200113T095212Z
LAST-MODIFIED:20200113T095212Z
UID:4327-1580049000-1580058000@oldemarkt.info
SUMMARY:Toneel Vriendenkring
DESCRIPTION:Toneelver. Vriendenkring voert op zaterdag 25 januari om 20.00 uur en zondag 26 januari om 14.30 uur de klucht: “Een paar tinten vrolijker graag” in MFC Dalzicht op. Entree in de voorverkoop bij Dalzicht € 7\,50 (aan de zaal € 8\,50)
URL:https://oldemarkt.info/event/toneel-vriendenkring-3-2020-01-26/
LOCATION:MFC Dalzicht
END:VEVENT
BEGIN:VEVENT
DTSTART;TZID=Europe/Amsterdam:20200125T200000
DTEND;TZID=Europe/Amsterdam:20200125T230000
DTSTAMP:20260421T044827
CREATED:20200113T095212Z
LAST-MODIFIED:20200113T095212Z
UID:4325-1579982400-1579993200@oldemarkt.info
SUMMARY:Toneel Vriendenkring
DESCRIPTION:Toneelver. Vriendenkring voert op zaterdag 25 januari om 20.00 uur en zondag 26 januari om 14.30 uur de klucht: “Een paar tinten vrolijker graag” in MFC Dalzicht op. Entree in de voorverkoop bij Dalzicht € 7\,50 (aan de zaal € 8\,50)
URL:https://oldemarkt.info/event/toneel-vriendenkring-3/
LOCATION:MFC Dalzicht
END:VEVENT
BEGIN:VEVENT
DTSTART;TZID=Europe/Amsterdam:20200125T143000
DTEND;TZID=Europe/Amsterdam:20200125T170000
DTSTAMP:20260421T044827
CREATED:20200113T104454Z
LAST-MODIFIED:20200113T104454Z
UID:4354-1579962600-1579971600@oldemarkt.info
SUMMARY:Soos 50+ ers
DESCRIPTION:
URL:https://oldemarkt.info/event/soos-50-ers-10/
LOCATION:De Landerijen\, De Weeren 1\, Oldemarkt\, Overijssel\, 8375 CD\, Nederland
END:VEVENT
BEGIN:VEVENT
DTSTART;TZID=Europe/Amsterdam:20200123T143000
DTEND;TZID=Europe/Amsterdam:20200123T170000
DTSTAMP:20260421T044827
CREATED:20200113T104228Z
LAST-MODIFIED:20200113T104228Z
UID:4351-1579789800-1579798800@oldemarkt.info
SUMMARY:Haak- en Breicafé
DESCRIPTION:
URL:https://oldemarkt.info/event/haak-en-breicafe-9/
LOCATION:De Landerijen\, De Weeren 1\, Oldemarkt\, Overijssel\, 8375 CD\, Nederland
END:VEVENT
BEGIN:VEVENT
DTSTART;TZID=Europe/Amsterdam:20200123T090000
DTEND;TZID=Europe/Amsterdam:20200123T130000
DTSTAMP:20260421T044827
CREATED:20191125T161436Z
LAST-MODIFIED:20191125T161436Z
UID:4236-1579770000-1579784400@oldemarkt.info
SUMMARY:WIWA wandeling
DESCRIPTION:De 1e wandeling van 2020 staat gepland op 23 januari. Meestal blijven we dan in de buurt van Oldemarkt\,ijs en wederdienende. \nNieuwe wandelaars kunnen altijd aansluiten en zijn bijzonder welkom!!
URL:https://oldemarkt.info/event/wiwa-wandeling-10/
LOCATION:RK Kerk
END:VEVENT
BEGIN:VEVENT
DTSTART;TZID=Europe/Amsterdam:20200121T200000
DTEND;TZID=Europe/Amsterdam:20200121T220000
DTSTAMP:20260421T044827
CREATED:20200113T103546Z
LAST-MODIFIED:20200113T103546Z
UID:4342-1579636800-1579644000@oldemarkt.info
SUMMARY:Klaverjassen
DESCRIPTION:
URL:https://oldemarkt.info/event/klaverjassen-4/
LOCATION:De Landerijen\, De Weeren 1\, Oldemarkt\, Overijssel\, 8375 CD\, Nederland
END:VEVENT
BEGIN:VEVENT
DTSTART;TZID=Europe/Amsterdam:20200121T143000
DTEND;TZID=Europe/Amsterdam:20200121T170000
DTSTAMP:20260421T044827
CREATED:20200113T092453Z
LAST-MODIFIED:20200113T092453Z
UID:4316-1579617000-1579626000@oldemarkt.info
SUMMARY:Kennismaken met tablets
DESCRIPTION:
URL:https://oldemarkt.info/event/kennismaken-met-tablets/
LOCATION:De Landerijen\, De Weeren 1\, Oldemarkt\, Overijssel\, 8375 CD\, Nederland
END:VEVENT
BEGIN:VEVENT
DTSTART;TZID=Europe/Amsterdam:20200114T193000
DTEND;TZID=Europe/Amsterdam:20200114T220000
DTSTAMP:20260421T044827
CREATED:20200101T202038Z
LAST-MODIFIED:20200101T202038Z
UID:4280-1579030200-1579039200@oldemarkt.info
SUMMARY:AED Beginnerscursus
DESCRIPTION:14 januari 19.30 u. AED-Beginnerscursus in Dalzicht.
URL:https://oldemarkt.info/event/aed-beginnerscursus/
LOCATION:MFC Dalzicht
END:VEVENT
BEGIN:VEVENT
DTSTART;TZID=Europe/Amsterdam:20200114T143000
DTEND;TZID=Europe/Amsterdam:20200114T170000
DTSTAMP:20260421T044827
CREATED:20200113T092158Z
LAST-MODIFIED:20200113T092158Z
UID:4312-1579012200-1579021200@oldemarkt.info
SUMMARY:OvO Ledenvergadering
DESCRIPTION:
URL:https://oldemarkt.info/event/ovo-ledenvergadering/
LOCATION:De Landerijen\, De Weeren 1\, Oldemarkt\, Overijssel\, 8375 CD\, Nederland
END:VEVENT
BEGIN:VEVENT
DTSTART;TZID=Europe/Amsterdam:20200114T143000
DTEND;TZID=Europe/Amsterdam:20200114T170000
DTSTAMP:20260421T044827
CREATED:20191014T185555Z
LAST-MODIFIED:20191014T185555Z
UID:4165-1579012200-1579021200@oldemarkt.info
SUMMARY:Bestanden opslaan op je pc hoe en waar?
DESCRIPTION:
URL:https://oldemarkt.info/event/bestanden-opslaan-op-je-pc-hoe-en-waar/
LOCATION:De Landerijen\, De Weeren 1\, Oldemarkt\, Overijssel\, 8375 CD\, Nederland
END:VEVENT
BEGIN:VEVENT
DTSTART;TZID=Europe/Amsterdam:20200114T143000
DTEND;TZID=Europe/Amsterdam:20200114T160000
DTSTAMP:20260421T044827
CREATED:20200113T092251Z
LAST-MODIFIED:20200113T092251Z
UID:4314-1579012200-1579017600@oldemarkt.info
SUMMARY:Opening Expo Schilder/Tekengroep
DESCRIPTION:
URL:https://oldemarkt.info/event/opening-expo-schilder-tekengroep/
LOCATION:De Landerijen\, De Weeren 1\, Oldemarkt\, Overijssel\, 8375 CD\, Nederland
END:VEVENT
BEGIN:VEVENT
DTSTART;TZID=Europe/Amsterdam:20200111T130000
DTEND;TZID=Europe/Amsterdam:20200111T170000
DTSTAMP:20260421T044827
CREATED:20191205T084036Z
LAST-MODIFIED:20191205T084036Z
UID:4254-1578747600-1578762000@oldemarkt.info
SUMMARY:6e Snertloop Oldemarkt
DESCRIPTION:6e Snertloop Oldemarkt  \nZaterdag 11 januari 2020 \n  \nOok in 2020 zal de snertloop weer plaatsvinden. Ondanks het “snert” weer in 2019 waren er toch 64 deelnemers die de wind\, kou en regen trotseerden. \nDe organisatie\, bestaande uit Lammy Pompstra\, Alie Jongschaap\, Henk Veurman\, Peter Nijmeijer en Philip Minnema\, is al druk bezig met de voorbereidingen. \nOok dit keer zal er weer een mooi parcours worden uitgezet rondom de bossen van FC Oldemarkt. \nDeelnemers kunnen kiezen uit de 1\,6 km\, 5 km en 10 km. \nInschrijven kan vanaf 13.00 uur tot 13:45 uur in de kantine van FC Oldemarkt. \nStart 1\,6 km 13.30 uur \nStart 5 km     14:10 uur \nStart 10 km   14.00 uur \nVoor de snelste 3 deelnemers in elke categorie (v/m) is een mooie herinnering beschikbaar. \n  \nHet inschrijfgeld bedraagt € 3\,00 t/m 11 jaar. Vanaf 12 jaar € 6\,00. Inclusief een heerlijke kop snert c.q. consumptie. \nNa afloop is er gelegenheid om te douchen en om gezellig na te praten in de kantine van FC Oldemarkt. \n  \nWij zien u graag op zaterdag 11 januari 2020  in de kantine van FC Oldemarkt.
URL:https://oldemarkt.info/event/6e-snertloop-oldemarkt/
LOCATION:MFC Dalzicht
END:VEVENT
BEGIN:VEVENT
DTSTART;TZID=Europe/Amsterdam:20191228T143000
DTEND;TZID=Europe/Amsterdam:20191228T170000
DTSTAMP:20260421T044827
CREATED:20181124T200417Z
LAST-MODIFIED:20181124T200417Z
UID:3450-1577543400-1577552400@oldemarkt.info
SUMMARY:Soos 50+ ers
DESCRIPTION:
URL:https://oldemarkt.info/event/soos-50-ers-9-2019-12-28/
LOCATION:De Landerijen\, De Weeren 1\, Oldemarkt\, Overijssel\, 8375 CD\, Nederland
END:VEVENT
BEGIN:VEVENT
DTSTART;TZID=Europe/Amsterdam:20191221T103000
DTEND;TZID=Europe/Amsterdam:20191221T163000
DTSTAMP:20260421T044827
CREATED:20191007T150833Z
LAST-MODIFIED:20191007T150833Z
UID:4118-1576924200-1576945800@oldemarkt.info
SUMMARY:Kerstrondje Oldemarkt
DESCRIPTION:Jubilerend Kerstrondje Oldemarkt zoekt deelnemers en stagiaires!  \nOldemarkt- De zomer is voorbij en de organisatie van het tiende Kerstrondje Oldemarkt staat in de startblokken! En daar hebben we deelnemers voor nodig!. Noteer alvast zaterdag 21 december in uw agenda; van 10.30 tot 16.30 uur wordt het tiende Kerstrondje Oldemarkt gehouden. Wat klein begon\, vanuit een initiatief van Plaatselijk Belang Oldemarkt\, is inmiddels uitgegroeid tot een groot event. En dan organiseren we dit jaar een feestelijke jubileum editie! \nWat is het Kerstrondje Oldemarkt?\nHet kerstrondje Oldemarkt is een initiatief van Plaatselijk Belang Oldemarkt. Door enthousiaste en creatieve deelnemers wordt er een grote variatie ‘events’ op zo’n 35 locaties aangeboden\, die vrijblijvend door jong én oud te bezoeken zijn . \nDenk bij locaties bijv. aan kerken\, winkels\,  restaurants\, musea\, galeries\, dorpsservice centrum De Landerijen\, de brandweerkazerne\,  maar ook aan privé huiskamers. Bezoekers genieten van gratis aangeboden activiteiten\, workshops\, tentoonstellingen\, concerten\,  muziek\, drank en spijs\, tramvervoer\, een ontmoeting met de kerstman\, alles in kerstsfeer in en rond het dorp Oldemarkt. \nAanmelding deelnemers.\nOude en nieuwe deelnemers zijn van harte welkom om mee te doen! Wilt u uw hobby\, muzikaliteit\, schildertalenten\, foto’s tentoonstellen? Een  gratis workshop aanbieden? Of heeft u een winkel of bedrijf mét ruimte voor een tentoonstelling o.i.d.?  Graag bekijken wij de samenwerkingsvormen waardoor op één locatie meerdere activiteiten te vinden zijn. Alles is in overleg mogelijk\, mits het doel; ‘een sfeervol niet-commercieel evenement neer te zetten’ overeind blijft. \nDeelname is gratis\, Plaatselijk Belang Oldemarkt verzorgt de promotie. U bent alleen kosten kwijt voor de workshops die u gratis aanbiedt of bijv. de glühwein of chocomelk die u de bezoekers inschenkt. Daarnaast staat het de deelnemers vrij om promotionele acties te ondernemen. Deelname levert u naamsbekendheid op en wellicht meer verkoop of nieuwe verenigingsleden voor in de toekomst. \nAanmelding maatschappelijke stagiaires\nAlle jaren zijn we blij met de hulp van maatschappelijke stagiaires. Wil je ook helpen?  Bijvoorbeeld  met warme chocolademelk schenken\, kinderen helpen knutselen\, meerijden op de tram etc . Geef jezelf of geef je samen met een vriend/in op via de website. Na een halve dag wissel je/jullie van plek en werkzaamheden. \nVier het jubileum mee en meldt u vóór 15 november 2019 aan\, via het inschrijfformulier op de website kerstrondjeoldemarkt.nl. Bel voor info naar 0561850381 Jan van der Werke. \n  \n 
URL:https://oldemarkt.info/event/kerstrondje-oldemarkt-2/
END:VEVENT
BEGIN:VEVENT
DTSTART;TZID=Europe/Amsterdam:20191219T193000
DTEND;TZID=Europe/Amsterdam:20191219T220000
DTSTAMP:20260421T044827
CREATED:20191014T190638Z
LAST-MODIFIED:20191014T190638Z
UID:4184-1576783800-1576792800@oldemarkt.info
SUMMARY:Kerstavond
DESCRIPTION:
URL:https://oldemarkt.info/event/kerstavond/
LOCATION:De Landerijen\, De Weeren 1\, Oldemarkt\, Overijssel\, 8375 CD\, Nederland
END:VEVENT
BEGIN:VEVENT
DTSTART;TZID=Europe/Amsterdam:20191219T170000
DTEND;TZID=Europe/Amsterdam:20191219T183000
DTSTAMP:20260421T044827
CREATED:20191014T190551Z
LAST-MODIFIED:20191014T190551Z
UID:4182-1576774800-1576780200@oldemarkt.info
SUMMARY:Kerstmiddag
DESCRIPTION:
URL:https://oldemarkt.info/event/kerstmiddag/
LOCATION:De Landerijen\, De Weeren 1\, Oldemarkt\, Overijssel\, 8375 CD\, Nederland
END:VEVENT
BEGIN:VEVENT
DTSTART;TZID=Europe/Amsterdam:20191219T090000
DTEND;TZID=Europe/Amsterdam:20191219T120000
DTSTAMP:20260421T044827
CREATED:20191029T105744Z
LAST-MODIFIED:20191029T105744Z
UID:4197-1576746000-1576756800@oldemarkt.info
SUMMARY:WIWA Wandeling
DESCRIPTION:In December wandelen we op donderdag 19 december\, ’s morgens om 9uur verzamelen bij de RK Kerk. \nMeestal een wandeling van zón 8km met een kopje koffie ter afsluiting.
URL:https://oldemarkt.info/event/wiwa-wandeling-9/
LOCATION:RK Kerk
END:VEVENT
BEGIN:VEVENT
DTSTART;TZID=Europe/Amsterdam:20191217T200000
DTEND;TZID=Europe/Amsterdam:20191217T223000
DTSTAMP:20260421T044827
CREATED:20191014T184131Z
LAST-MODIFIED:20191014T184131Z
UID:4142-1576612800-1576621800@oldemarkt.info
SUMMARY:Klaverjassen
DESCRIPTION:
URL:https://oldemarkt.info/event/klaverjassen-3-2019-12-17/
LOCATION:De Landerijen\, De Weeren 1\, Oldemarkt\, Overijssel\, 8375 CD\, Nederland
END:VEVENT
BEGIN:VEVENT
DTSTART;TZID=Europe/Amsterdam:20191217T100000
DTEND;TZID=Europe/Amsterdam:20191217T120000
DTSTAMP:20260421T044827
CREATED:20191014T185307Z
LAST-MODIFIED:20191014T185307Z
UID:4160-1576576800-1576584000@oldemarkt.info
SUMMARY:Digi-café
DESCRIPTION:
URL:https://oldemarkt.info/event/digi-cafe-2019-12-17/
LOCATION:De Landerijen\, De Weeren 1\, Oldemarkt\, Overijssel\, 8375 CD\, Nederland
END:VEVENT
BEGIN:VEVENT
DTSTART;TZID=Europe/Amsterdam:20191216T200000
DTEND;TZID=Europe/Amsterdam:20191216T220000
DTSTAMP:20260421T044827
CREATED:20190923T131425Z
LAST-MODIFIED:20190923T131425Z
UID:4083-1576526400-1576533600@oldemarkt.info
SUMMARY:Kerstavond\, Passage\, chr. maatsch. vrouwenbeweging\, Oldemarkt-Paasloo
DESCRIPTION:Plaats:  ”De Ontmoeting”\, Marktplein 9\, 8375 AZ Oldemarkt. Aanvang: 20.00 uur. \nInlichtingen bij: Vrouwkje Visserman-Winters\,  telefoon 0561-451933 \nemail: vrouwkje.visserman@gmail.com
URL:https://oldemarkt.info/event/kerstavond-passage-chr-maatsch-vrouwenbeweging-oldemarkt-paasloo/
LOCATION:De Ontmoeting
END:VEVENT
BEGIN:VEVENT
DTSTART;TZID=Europe/Amsterdam:20191211T193000
DTEND;TZID=Europe/Amsterdam:20191211T213000
DTSTAMP:20260421T044827
CREATED:20191014T184536Z
LAST-MODIFIED:20191014T184536Z
UID:4149-1576092600-1576099800@oldemarkt.info
SUMMARY:Haak- en breicafé
DESCRIPTION:
URL:https://oldemarkt.info/event/haak-en-breicafe-8-2019-12-11/
LOCATION:De Landerijen\, De Weeren 1\, Oldemarkt\, Overijssel\, 8375 CD\, Nederland
END:VEVENT
BEGIN:VEVENT
DTSTART;TZID=Europe/Amsterdam:20191210T193000
DTEND;TZID=Europe/Amsterdam:20191210T210000
DTSTAMP:20260421T044827
CREATED:20191129T080035Z
LAST-MODIFIED:20191129T080035Z
UID:4239-1576006200-1576011600@oldemarkt.info
SUMMARY:Kerstconcert in de Landerijen in Oldemarkt
DESCRIPTION:Kerstconcert in de Landerijen in Oldemarkt \nOp dinsdag 10 december is er een kerstconcert in de Landerijen in Oldemarkt. \nHet concert wordt verzorgd door muziekvereniging Oldemarkter Fanfare. \nOp het programma staan naast de traditionele kerstliederen ook enkele hedendaagse kerstliederen zoals: We all stand together\, White Christmas\, All I want for Christmas\, It’s beginning to look like Christmas. \nNaast het luisteren naar de mooie sfeer- en kerstmuziek is er voor het publiek ook gelegenheid om mee te zingen met de bekende kerstliederen. \nHet concert begint om 19:30 uur en duurt tot ongeveer 21:00 uur. \nDe toegang is gratis.
URL:https://oldemarkt.info/event/kerstconcert-in-de-landerijen-in-oldemarkt/
LOCATION:De Landerijen\, De Weeren 1\, Oldemarkt\, Overijssel\, 8375 CD\, Nederland
END:VEVENT
END:VCALENDAR