
BEGIN:VCALENDAR
VERSION:2.0
PRODID:-//Oldemarkt een prachtige ontdekking - ECPv6.15.15//NONSGML v1.0//EN
CALSCALE:GREGORIAN
METHOD:PUBLISH
X-WR-CALNAME:Oldemarkt een prachtige ontdekking
X-ORIGINAL-URL:https://oldemarkt.info
X-WR-CALDESC:Evenementen voor Oldemarkt een prachtige ontdekking
REFRESH-INTERVAL;VALUE=DURATION:PT1H
X-Robots-Tag:noindex
X-PUBLISHED-TTL:PT1H
BEGIN:VTIMEZONE
TZID:Europe/Amsterdam
BEGIN:DAYLIGHT
TZOFFSETFROM:+0100
TZOFFSETTO:+0200
TZNAME:CEST
DTSTART:20180325T010000
END:DAYLIGHT
BEGIN:STANDARD
TZOFFSETFROM:+0200
TZOFFSETTO:+0100
TZNAME:CET
DTSTART:20181028T010000
END:STANDARD
BEGIN:DAYLIGHT
TZOFFSETFROM:+0100
TZOFFSETTO:+0200
TZNAME:CEST
DTSTART:20190331T010000
END:DAYLIGHT
BEGIN:STANDARD
TZOFFSETFROM:+0200
TZOFFSETTO:+0100
TZNAME:CET
DTSTART:20191027T010000
END:STANDARD
BEGIN:DAYLIGHT
TZOFFSETFROM:+0100
TZOFFSETTO:+0200
TZNAME:CEST
DTSTART:20200329T010000
END:DAYLIGHT
BEGIN:STANDARD
TZOFFSETFROM:+0200
TZOFFSETTO:+0100
TZNAME:CET
DTSTART:20201025T010000
END:STANDARD
END:VTIMEZONE
BEGIN:VEVENT
DTSTART;TZID=Europe/Amsterdam:20191228T143000
DTEND;TZID=Europe/Amsterdam:20191228T170000
DTSTAMP:20260421T200934
CREATED:20181124T200417Z
LAST-MODIFIED:20181124T200417Z
UID:3450-1577543400-1577552400@oldemarkt.info
SUMMARY:Soos 50+ ers
DESCRIPTION:
URL:https://oldemarkt.info/event/soos-50-ers-9-2019-12-28/
LOCATION:De Landerijen\, De Weeren 1\, Oldemarkt\, Overijssel\, 8375 CD\, Nederland
END:VEVENT
BEGIN:VEVENT
DTSTART;TZID=Europe/Amsterdam:20191221T103000
DTEND;TZID=Europe/Amsterdam:20191221T163000
DTSTAMP:20260421T200934
CREATED:20191007T150833Z
LAST-MODIFIED:20191007T150833Z
UID:4118-1576924200-1576945800@oldemarkt.info
SUMMARY:Kerstrondje Oldemarkt
DESCRIPTION:Jubilerend Kerstrondje Oldemarkt zoekt deelnemers en stagiaires!  \nOldemarkt- De zomer is voorbij en de organisatie van het tiende Kerstrondje Oldemarkt staat in de startblokken! En daar hebben we deelnemers voor nodig!. Noteer alvast zaterdag 21 december in uw agenda; van 10.30 tot 16.30 uur wordt het tiende Kerstrondje Oldemarkt gehouden. Wat klein begon\, vanuit een initiatief van Plaatselijk Belang Oldemarkt\, is inmiddels uitgegroeid tot een groot event. En dan organiseren we dit jaar een feestelijke jubileum editie! \nWat is het Kerstrondje Oldemarkt?\nHet kerstrondje Oldemarkt is een initiatief van Plaatselijk Belang Oldemarkt. Door enthousiaste en creatieve deelnemers wordt er een grote variatie ‘events’ op zo’n 35 locaties aangeboden\, die vrijblijvend door jong én oud te bezoeken zijn . \nDenk bij locaties bijv. aan kerken\, winkels\,  restaurants\, musea\, galeries\, dorpsservice centrum De Landerijen\, de brandweerkazerne\,  maar ook aan privé huiskamers. Bezoekers genieten van gratis aangeboden activiteiten\, workshops\, tentoonstellingen\, concerten\,  muziek\, drank en spijs\, tramvervoer\, een ontmoeting met de kerstman\, alles in kerstsfeer in en rond het dorp Oldemarkt. \nAanmelding deelnemers.\nOude en nieuwe deelnemers zijn van harte welkom om mee te doen! Wilt u uw hobby\, muzikaliteit\, schildertalenten\, foto’s tentoonstellen? Een  gratis workshop aanbieden? Of heeft u een winkel of bedrijf mét ruimte voor een tentoonstelling o.i.d.?  Graag bekijken wij de samenwerkingsvormen waardoor op één locatie meerdere activiteiten te vinden zijn. Alles is in overleg mogelijk\, mits het doel; ‘een sfeervol niet-commercieel evenement neer te zetten’ overeind blijft. \nDeelname is gratis\, Plaatselijk Belang Oldemarkt verzorgt de promotie. U bent alleen kosten kwijt voor de workshops die u gratis aanbiedt of bijv. de glühwein of chocomelk die u de bezoekers inschenkt. Daarnaast staat het de deelnemers vrij om promotionele acties te ondernemen. Deelname levert u naamsbekendheid op en wellicht meer verkoop of nieuwe verenigingsleden voor in de toekomst. \nAanmelding maatschappelijke stagiaires\nAlle jaren zijn we blij met de hulp van maatschappelijke stagiaires. Wil je ook helpen?  Bijvoorbeeld  met warme chocolademelk schenken\, kinderen helpen knutselen\, meerijden op de tram etc . Geef jezelf of geef je samen met een vriend/in op via de website. Na een halve dag wissel je/jullie van plek en werkzaamheden. \nVier het jubileum mee en meldt u vóór 15 november 2019 aan\, via het inschrijfformulier op de website kerstrondjeoldemarkt.nl. Bel voor info naar 0561850381 Jan van der Werke. \n  \n 
URL:https://oldemarkt.info/event/kerstrondje-oldemarkt-2/
END:VEVENT
BEGIN:VEVENT
DTSTART;TZID=Europe/Amsterdam:20191219T193000
DTEND;TZID=Europe/Amsterdam:20191219T220000
DTSTAMP:20260421T200934
CREATED:20191014T190638Z
LAST-MODIFIED:20191014T190638Z
UID:4184-1576783800-1576792800@oldemarkt.info
SUMMARY:Kerstavond
DESCRIPTION:
URL:https://oldemarkt.info/event/kerstavond/
LOCATION:De Landerijen\, De Weeren 1\, Oldemarkt\, Overijssel\, 8375 CD\, Nederland
END:VEVENT
BEGIN:VEVENT
DTSTART;TZID=Europe/Amsterdam:20191219T170000
DTEND;TZID=Europe/Amsterdam:20191219T183000
DTSTAMP:20260421T200934
CREATED:20191014T190551Z
LAST-MODIFIED:20191014T190551Z
UID:4182-1576774800-1576780200@oldemarkt.info
SUMMARY:Kerstmiddag
DESCRIPTION:
URL:https://oldemarkt.info/event/kerstmiddag/
LOCATION:De Landerijen\, De Weeren 1\, Oldemarkt\, Overijssel\, 8375 CD\, Nederland
END:VEVENT
BEGIN:VEVENT
DTSTART;TZID=Europe/Amsterdam:20191219T090000
DTEND;TZID=Europe/Amsterdam:20191219T120000
DTSTAMP:20260421T200934
CREATED:20191029T105744Z
LAST-MODIFIED:20191029T105744Z
UID:4197-1576746000-1576756800@oldemarkt.info
SUMMARY:WIWA Wandeling
DESCRIPTION:In December wandelen we op donderdag 19 december\, ’s morgens om 9uur verzamelen bij de RK Kerk. \nMeestal een wandeling van zón 8km met een kopje koffie ter afsluiting.
URL:https://oldemarkt.info/event/wiwa-wandeling-9/
LOCATION:RK Kerk
END:VEVENT
BEGIN:VEVENT
DTSTART;TZID=Europe/Amsterdam:20191217T200000
DTEND;TZID=Europe/Amsterdam:20191217T223000
DTSTAMP:20260421T200934
CREATED:20191014T184131Z
LAST-MODIFIED:20191014T184131Z
UID:4142-1576612800-1576621800@oldemarkt.info
SUMMARY:Klaverjassen
DESCRIPTION:
URL:https://oldemarkt.info/event/klaverjassen-3-2019-12-17/
LOCATION:De Landerijen\, De Weeren 1\, Oldemarkt\, Overijssel\, 8375 CD\, Nederland
END:VEVENT
BEGIN:VEVENT
DTSTART;TZID=Europe/Amsterdam:20191217T100000
DTEND;TZID=Europe/Amsterdam:20191217T120000
DTSTAMP:20260421T200934
CREATED:20191014T185307Z
LAST-MODIFIED:20191014T185307Z
UID:4160-1576576800-1576584000@oldemarkt.info
SUMMARY:Digi-café
DESCRIPTION:
URL:https://oldemarkt.info/event/digi-cafe-2019-12-17/
LOCATION:De Landerijen\, De Weeren 1\, Oldemarkt\, Overijssel\, 8375 CD\, Nederland
END:VEVENT
BEGIN:VEVENT
DTSTART;TZID=Europe/Amsterdam:20191216T200000
DTEND;TZID=Europe/Amsterdam:20191216T220000
DTSTAMP:20260421T200934
CREATED:20190923T131425Z
LAST-MODIFIED:20190923T131425Z
UID:4083-1576526400-1576533600@oldemarkt.info
SUMMARY:Kerstavond\, Passage\, chr. maatsch. vrouwenbeweging\, Oldemarkt-Paasloo
DESCRIPTION:Plaats:  ”De Ontmoeting”\, Marktplein 9\, 8375 AZ Oldemarkt. Aanvang: 20.00 uur. \nInlichtingen bij: Vrouwkje Visserman-Winters\,  telefoon 0561-451933 \nemail: vrouwkje.visserman@gmail.com
URL:https://oldemarkt.info/event/kerstavond-passage-chr-maatsch-vrouwenbeweging-oldemarkt-paasloo/
LOCATION:De Ontmoeting
END:VEVENT
BEGIN:VEVENT
DTSTART;TZID=Europe/Amsterdam:20191211T193000
DTEND;TZID=Europe/Amsterdam:20191211T213000
DTSTAMP:20260421T200934
CREATED:20191014T184536Z
LAST-MODIFIED:20191014T184536Z
UID:4149-1576092600-1576099800@oldemarkt.info
SUMMARY:Haak- en breicafé
DESCRIPTION:
URL:https://oldemarkt.info/event/haak-en-breicafe-8-2019-12-11/
LOCATION:De Landerijen\, De Weeren 1\, Oldemarkt\, Overijssel\, 8375 CD\, Nederland
END:VEVENT
BEGIN:VEVENT
DTSTART;TZID=Europe/Amsterdam:20191210T193000
DTEND;TZID=Europe/Amsterdam:20191210T210000
DTSTAMP:20260421T200934
CREATED:20191129T080035Z
LAST-MODIFIED:20191129T080035Z
UID:4239-1576006200-1576011600@oldemarkt.info
SUMMARY:Kerstconcert in de Landerijen in Oldemarkt
DESCRIPTION:Kerstconcert in de Landerijen in Oldemarkt \nOp dinsdag 10 december is er een kerstconcert in de Landerijen in Oldemarkt. \nHet concert wordt verzorgd door muziekvereniging Oldemarkter Fanfare. \nOp het programma staan naast de traditionele kerstliederen ook enkele hedendaagse kerstliederen zoals: We all stand together\, White Christmas\, All I want for Christmas\, It’s beginning to look like Christmas. \nNaast het luisteren naar de mooie sfeer- en kerstmuziek is er voor het publiek ook gelegenheid om mee te zingen met de bekende kerstliederen. \nHet concert begint om 19:30 uur en duurt tot ongeveer 21:00 uur. \nDe toegang is gratis.
URL:https://oldemarkt.info/event/kerstconcert-in-de-landerijen-in-oldemarkt/
LOCATION:De Landerijen\, De Weeren 1\, Oldemarkt\, Overijssel\, 8375 CD\, Nederland
END:VEVENT
BEGIN:VEVENT
DTSTART;TZID=Europe/Amsterdam:20191210T143000
DTEND;TZID=Europe/Amsterdam:20191210T170000
DTSTAMP:20260421T200934
CREATED:20191014T185451Z
LAST-MODIFIED:20191014T185451Z
UID:4163-1575988200-1575997200@oldemarkt.info
SUMMARY:Muziek en film streamen
DESCRIPTION:
URL:https://oldemarkt.info/event/muziek-en-film-streamen/
LOCATION:De Landerijen\, De Weeren 1\, Oldemarkt\, Overijssel\, 8375 CD\, Nederland
END:VEVENT
BEGIN:VEVENT
DTSTART;TZID=Europe/Amsterdam:20191210T121500
DTEND;TZID=Europe/Amsterdam:20191210T133000
DTSTAMP:20260421T200934
CREATED:20191014T184721Z
LAST-MODIFIED:20191014T184721Z
UID:4152-1575980100-1575984600@oldemarkt.info
SUMMARY:Maaltijd 40+ ers
DESCRIPTION:
URL:https://oldemarkt.info/event/maaltijd-40-ers-9-2019-12-10/
LOCATION:De Landerijen\, De Weeren 1\, Oldemarkt\, Overijssel\, 8375 CD\, Nederland
END:VEVENT
BEGIN:VEVENT
DTSTART;TZID=Europe/Amsterdam:20191207T100000
DTEND;TZID=Europe/Amsterdam:20191207T130000
DTSTAMP:20260421T200934
CREATED:20191008T123217Z
LAST-MODIFIED:20191008T123217Z
UID:4124-1575712800-1575723600@oldemarkt.info
SUMMARY:Uitventen Snert AED Actieteam
DESCRIPTION:Uitventen snert zaterdag 7 december 2019\n(tussen 10.00 uur en 13.00 uur wordt de bestelde snert\, ingevroren afgeleverd)
URL:https://oldemarkt.info/event/uitventen-snert-aed-actieteam/
END:VEVENT
BEGIN:VEVENT
DTSTART;TZID=Europe/Amsterdam:20191203T200000
DTEND;TZID=Europe/Amsterdam:20191203T223000
DTSTAMP:20260421T200934
CREATED:20191014T184131Z
LAST-MODIFIED:20191014T184131Z
UID:4141-1575403200-1575412200@oldemarkt.info
SUMMARY:Klaverjassen
DESCRIPTION:
URL:https://oldemarkt.info/event/klaverjassen-3-2019-12-03/
LOCATION:De Landerijen\, De Weeren 1\, Oldemarkt\, Overijssel\, 8375 CD\, Nederland
END:VEVENT
BEGIN:VEVENT
DTSTART;TZID=Europe/Amsterdam:20191203T143000
DTEND;TZID=Europe/Amsterdam:20191203T170000
DTSTAMP:20260421T200934
CREATED:20191014T190425Z
LAST-MODIFIED:20191014T190425Z
UID:4180-1575383400-1575392400@oldemarkt.info
SUMMARY:AC + OvO Sinterklaas
DESCRIPTION:
URL:https://oldemarkt.info/event/ac-ovo-sinterklaas/
LOCATION:De Landerijen\, De Weeren 1\, Oldemarkt\, Overijssel\, 8375 CD\, Nederland
END:VEVENT
BEGIN:VEVENT
DTSTART;TZID=Europe/Amsterdam:20191130T143000
DTEND;TZID=Europe/Amsterdam:20191130T170000
DTSTAMP:20260421T200934
CREATED:20181124T200417Z
LAST-MODIFIED:20181124T200417Z
UID:3449-1575124200-1575133200@oldemarkt.info
SUMMARY:Soos 50+ ers
DESCRIPTION:
URL:https://oldemarkt.info/event/soos-50-ers-9-2019-11-30/
LOCATION:De Landerijen\, De Weeren 1\, Oldemarkt\, Overijssel\, 8375 CD\, Nederland
END:VEVENT
BEGIN:VEVENT
DTSTART;TZID=Europe/Amsterdam:20191129T193000
DTEND;TZID=Europe/Amsterdam:20191129T193000
DTSTAMP:20260421T200934
CREATED:20191014T190121Z
LAST-MODIFIED:20191014T190121Z
UID:4173-1575055800-1575055800@oldemarkt.info
SUMMARY:Filmhuis: Lion
DESCRIPTION:
URL:https://oldemarkt.info/event/filmhuis-lion/
LOCATION:De Landerijen\, De Weeren 1\, Oldemarkt\, Overijssel\, 8375 CD\, Nederland
END:VEVENT
BEGIN:VEVENT
DTSTART;TZID=Europe/Amsterdam:20191127T193000
DTEND;TZID=Europe/Amsterdam:20191127T213000
DTSTAMP:20260421T200934
CREATED:20191014T184536Z
LAST-MODIFIED:20191014T184536Z
UID:4148-1574883000-1574890200@oldemarkt.info
SUMMARY:Haak- en breicafé
DESCRIPTION:
URL:https://oldemarkt.info/event/haak-en-breicafe-8-2019-11-27/
LOCATION:De Landerijen\, De Weeren 1\, Oldemarkt\, Overijssel\, 8375 CD\, Nederland
END:VEVENT
BEGIN:VEVENT
DTSTART;TZID=Europe/Amsterdam:20191127T100000
DTEND;TZID=Europe/Amsterdam:20191127T120000
DTSTAMP:20260421T200934
CREATED:20191014T190238Z
LAST-MODIFIED:20191014T190238Z
UID:4177-1574848800-1574856000@oldemarkt.info
SUMMARY:Creazy Ladies
DESCRIPTION:
URL:https://oldemarkt.info/event/creazy-ladies-5-2019-11-27/
LOCATION:De Landerijen\, De Weeren 1\, Oldemarkt\, Overijssel\, 8375 CD\, Nederland
END:VEVENT
BEGIN:VEVENT
DTSTART;TZID=Europe/Amsterdam:20191126T100000
DTEND;TZID=Europe/Amsterdam:20191126T120000
DTSTAMP:20260421T200934
CREATED:20191014T185307Z
LAST-MODIFIED:20191014T185307Z
UID:4159-1574762400-1574769600@oldemarkt.info
SUMMARY:Digi-café
DESCRIPTION:
URL:https://oldemarkt.info/event/digi-cafe-2019-11-26/
LOCATION:De Landerijen\, De Weeren 1\, Oldemarkt\, Overijssel\, 8375 CD\, Nederland
END:VEVENT
BEGIN:VEVENT
DTSTART;TZID=Europe/Amsterdam:20191125T200000
DTEND;TZID=Europe/Amsterdam:20191125T220000
DTSTAMP:20260421T200934
CREATED:20190923T131301Z
LAST-MODIFIED:20190923T131301Z
UID:4081-1574712000-1574719200@oldemarkt.info
SUMMARY:Creatieve avond Passage\, chr. maatsch. vrouwenbeweging\, Oldemarkt-Paasloo
DESCRIPTION:Plaats:  ”De Ontmoeting”\, Marktplein 9\, 8375 AZ Oldemarkt. Aanvang: 20.00 uur. \nInlichtingen bij: Vrouwkje Visserman-Winters\,  telefoon 0561-451933 \nemail: vrouwkje.visserman@gmail.com
URL:https://oldemarkt.info/event/creatieve-avond-passage-chr-maatsch-vrouwenbeweging-oldemarkt-paasloo/
LOCATION:De Ontmoeting
END:VEVENT
BEGIN:VEVENT
DTSTART;TZID=Europe/Amsterdam:20191123T140000
DTEND;TZID=Europe/Amsterdam:20191123T170000
DTSTAMP:20260421T200934
CREATED:20191104T210131Z
LAST-MODIFIED:20191104T210131Z
UID:4208-1574517600-1574528400@oldemarkt.info
SUMMARY:Sinterklaasintocht
DESCRIPTION:De intocht is op 23 november 2019. Sinterklaas komt om 14.00 uur aan bij het Mallegat. Daarna gaan we weer naar Dalzicht. Hier is in de Valleizaal een programma voor de kinderen t/m groep 4. In de sportzaal is er weer Pietengym voor de kinderen van groep 5 t/m 8. Met natuurlijk muziek van DJ Rudi.
URL:https://oldemarkt.info/event/sinterklaasintocht/
LOCATION:Mallegat
END:VEVENT
BEGIN:VEVENT
DTSTART;TZID=Europe/Amsterdam:20191121T143000
DTEND;TZID=Europe/Amsterdam:20191121T170000
DTSTAMP:20260421T200934
CREATED:20191014T184404Z
LAST-MODIFIED:20191014T184404Z
UID:4145-1574346600-1574355600@oldemarkt.info
SUMMARY:Haak- en breicafé
DESCRIPTION:
URL:https://oldemarkt.info/event/haak-en-breicafe-7-2019-11-21/
LOCATION:De Landerijen\, De Weeren 1\, Oldemarkt\, Overijssel\, 8375 CD\, Nederland
END:VEVENT
BEGIN:VEVENT
DTSTART;TZID=Europe/Amsterdam:20191121T090000
DTEND;TZID=Europe/Amsterdam:20191121T120000
DTSTAMP:20260421T200934
CREATED:20191029T105628Z
LAST-MODIFIED:20191029T105628Z
UID:4194-1574326800-1574337600@oldemarkt.info
SUMMARY:WIWA Wandeling
DESCRIPTION:In November wandelen we op donderdag 21 November\, ’s morgens om 9 uur verzamelen bij de RK Kerk. \nMeestal een wandeling van zón 8km met een kopje koffie ter afsluiting.
URL:https://oldemarkt.info/event/wiwa-wandeling-8/
LOCATION:RK Kerk
END:VEVENT
BEGIN:VEVENT
DTSTART;TZID=Europe/Amsterdam:20191119T200000
DTEND;TZID=Europe/Amsterdam:20191119T223000
DTSTAMP:20260421T200934
CREATED:20191014T184131Z
LAST-MODIFIED:20191014T184131Z
UID:4140-1574193600-1574202600@oldemarkt.info
SUMMARY:Klaverjassen
DESCRIPTION:
URL:https://oldemarkt.info/event/klaverjassen-3-2019-11-19/
LOCATION:De Landerijen\, De Weeren 1\, Oldemarkt\, Overijssel\, 8375 CD\, Nederland
END:VEVENT
BEGIN:VEVENT
DTSTART;TZID=Europe/Amsterdam:20191119T193000
DTEND;TZID=Europe/Amsterdam:20191119T220000
DTSTAMP:20260421T200934
CREATED:20191014T185002Z
LAST-MODIFIED:20191014T185002Z
UID:4155-1574191800-1574200800@oldemarkt.info
SUMMARY:Info Levenstestament
DESCRIPTION:
URL:https://oldemarkt.info/event/info-levenstestament/
LOCATION:De Landerijen\, De Weeren 1\, Oldemarkt\, Overijssel\, 8375 CD\, Nederland
END:VEVENT
BEGIN:VEVENT
DTSTART;TZID=Europe/Amsterdam:20191113T193000
DTEND;TZID=Europe/Amsterdam:20191113T213000
DTSTAMP:20260421T200934
CREATED:20191014T184536Z
LAST-MODIFIED:20191014T184536Z
UID:4146-1573673400-1573680600@oldemarkt.info
SUMMARY:Haak- en breicafé
DESCRIPTION:
URL:https://oldemarkt.info/event/haak-en-breicafe-8/
LOCATION:De Landerijen\, De Weeren 1\, Oldemarkt\, Overijssel\, 8375 CD\, Nederland
END:VEVENT
BEGIN:VEVENT
DTSTART;TZID=Europe/Amsterdam:20191110T080000
DTEND;TZID=Europe/Amsterdam:20191110T170000
DTSTAMP:20260421T200934
CREATED:20191014T190322Z
LAST-MODIFIED:20191014T190322Z
UID:4178-1573372800-1573405200@oldemarkt.info
SUMMARY:OvO Gezellige zondagmiddag
DESCRIPTION:
URL:https://oldemarkt.info/event/ovo-gezellige-zondagmiddag-4/
LOCATION:De Landerijen\, De Weeren 1\, Oldemarkt\, Overijssel\, 8375 CD\, Nederland
END:VEVENT
BEGIN:VEVENT
DTSTART;TZID=Europe/Amsterdam:20191109T100000
DTEND;TZID=Europe/Amsterdam:20191109T130000
DTSTAMP:20260421T200934
CREATED:20191008T123120Z
LAST-MODIFIED:20191008T123120Z
UID:4121-1573293600-1573304400@oldemarkt.info
SUMMARY:Snert Inventarisatie AED Actieteam
DESCRIPTION:Snert inventariseren zaterdag 9 november 2019 \n(tussen 10.00 uur t/m 13.00 uur komen vrijwilligers langs de deur)
URL:https://oldemarkt.info/event/snert-inventarisatie-aed-actieteam/
END:VEVENT
BEGIN:VEVENT
DTSTART;TZID=Europe/Amsterdam:20191105T200000
DTEND;TZID=Europe/Amsterdam:20191105T223000
DTSTAMP:20260421T200934
CREATED:20191014T184131Z
LAST-MODIFIED:20191014T184131Z
UID:4139-1572984000-1572993000@oldemarkt.info
SUMMARY:Klaverjassen
DESCRIPTION:
URL:https://oldemarkt.info/event/klaverjassen-3-2019-11-05/
LOCATION:De Landerijen\, De Weeren 1\, Oldemarkt\, Overijssel\, 8375 CD\, Nederland
END:VEVENT
END:VCALENDAR