
BEGIN:VCALENDAR
VERSION:2.0
PRODID:-//Oldemarkt een prachtige ontdekking - ECPv6.15.15//NONSGML v1.0//EN
CALSCALE:GREGORIAN
METHOD:PUBLISH
X-WR-CALNAME:Oldemarkt een prachtige ontdekking
X-ORIGINAL-URL:https://oldemarkt.info
X-WR-CALDESC:Evenementen voor Oldemarkt een prachtige ontdekking
REFRESH-INTERVAL;VALUE=DURATION:PT1H
X-Robots-Tag:noindex
X-PUBLISHED-TTL:PT1H
BEGIN:VTIMEZONE
TZID:Europe/Amsterdam
BEGIN:DAYLIGHT
TZOFFSETFROM:+0100
TZOFFSETTO:+0200
TZNAME:CEST
DTSTART:20170326T010000
END:DAYLIGHT
BEGIN:STANDARD
TZOFFSETFROM:+0200
TZOFFSETTO:+0100
TZNAME:CET
DTSTART:20171029T010000
END:STANDARD
BEGIN:DAYLIGHT
TZOFFSETFROM:+0100
TZOFFSETTO:+0200
TZNAME:CEST
DTSTART:20180325T010000
END:DAYLIGHT
BEGIN:STANDARD
TZOFFSETFROM:+0200
TZOFFSETTO:+0100
TZNAME:CET
DTSTART:20181028T010000
END:STANDARD
BEGIN:DAYLIGHT
TZOFFSETFROM:+0100
TZOFFSETTO:+0200
TZNAME:CEST
DTSTART:20190331T010000
END:DAYLIGHT
BEGIN:STANDARD
TZOFFSETFROM:+0200
TZOFFSETTO:+0100
TZNAME:CET
DTSTART:20191027T010000
END:STANDARD
END:VTIMEZONE
BEGIN:VEVENT
DTSTART;TZID=Europe/Amsterdam:20180507T190000
DTEND;TZID=Europe/Amsterdam:20180507T210000
DTSTAMP:20260422T010618
CREATED:20180511T084258Z
LAST-MODIFIED:20180511T084258Z
UID:2900-1525719600-1525726800@oldemarkt.info
SUMMARY:Fietsgroep
DESCRIPTION:
URL:https://oldemarkt.info/event/fietsgroep-14/
LOCATION:RK Kerk
END:VEVENT
BEGIN:VEVENT
DTSTART;TZID=Europe/Amsterdam:20180508T103000
DTEND;TZID=Europe/Amsterdam:20180508T120000
DTSTAMP:20260422T010618
CREATED:20171005T110925Z
LAST-MODIFIED:20171005T110925Z
UID:2002-1525775400-1525780800@oldemarkt.info
SUMMARY:Computerinloop
DESCRIPTION:
URL:https://oldemarkt.info/event/computerinloop-9/
LOCATION:De Landerijen\, De Weeren 1\, Oldemarkt\, Overijssel\, 8375 CD\, Nederland
END:VEVENT
BEGIN:VEVENT
DTSTART;TZID=Europe/Amsterdam:20180510T090000
DTEND;TZID=Europe/Amsterdam:20180510T160000
DTSTAMP:20260422T010618
CREATED:20180503T155748Z
LAST-MODIFIED:20180503T155748Z
UID:2893-1525942800-1525968000@oldemarkt.info
SUMMARY:Lambertusmarkt
DESCRIPTION:
URL:https://oldemarkt.info/event/lambertusmarkt-2/
LOCATION:Oldemarkt
END:VEVENT
BEGIN:VEVENT
DTSTART;TZID=Europe/Amsterdam:20180517T090000
DTEND;TZID=Europe/Amsterdam:20180517T120000
DTSTAMP:20260422T010618
CREATED:20180409T131956Z
LAST-MODIFIED:20180409T131956Z
UID:2844-1526547600-1526558400@oldemarkt.info
SUMMARY:WiWandelaars
DESCRIPTION:
URL:https://oldemarkt.info/event/wiwandelaars-12/
LOCATION:RK Kerk
END:VEVENT
BEGIN:VEVENT
DTSTART;TZID=Europe/Amsterdam:20180522T093000
DTEND;TZID=Europe/Amsterdam:20180522T150000
DTSTAMP:20260422T010618
CREATED:20171229T201301Z
LAST-MODIFIED:20171229T201301Z
UID:2473-1526981400-1527001200@oldemarkt.info
SUMMARY:OVO Boottocht
DESCRIPTION:
URL:https://oldemarkt.info/event/ovo-boottocht/
LOCATION:De Landerijen\, De Weeren 1\, Oldemarkt\, Overijssel\, 8375 CD\, Nederland
END:VEVENT
BEGIN:VEVENT
DTSTART;TZID=Europe/Amsterdam:20180526T100000
DTEND;TZID=Europe/Amsterdam:20180526T130000
DTSTAMP:20260422T010618
CREATED:20180425T075115Z
LAST-MODIFIED:20180425T075115Z
UID:2885-1527328800-1527339600@oldemarkt.info
SUMMARY:Open Huis De Landerijen
DESCRIPTION:
URL:https://oldemarkt.info/event/open-huis-de-landerijen-2/
LOCATION:De Landerijen\, De Weeren 1\, Oldemarkt\, Overijssel\, 8375 CD\, Nederland
END:VEVENT
BEGIN:VEVENT
DTSTART;TZID=Europe/Amsterdam:20180526T100000
DTEND;TZID=Europe/Amsterdam:20180526T160000
DTSTAMP:20260422T010618
CREATED:20171016T064226Z
LAST-MODIFIED:20171016T064226Z
UID:2082-1527328800-1527350400@oldemarkt.info
SUMMARY:Schuurverkoop
DESCRIPTION:
URL:https://oldemarkt.info/event/schuurverkoop-2/
LOCATION:Oldemarkt
END:VEVENT
BEGIN:VEVENT
DTSTART;TZID=Europe/Amsterdam:20180526T120000
DTEND;TZID=Europe/Amsterdam:20180526T170000
DTSTAMP:20260422T010618
CREATED:20180511T090218Z
LAST-MODIFIED:20180511T090218Z
UID:2918-1527336000-1527354000@oldemarkt.info
SUMMARY:Gezond & Fit Beurs
DESCRIPTION:
URL:https://oldemarkt.info/event/gezond-fit-beurs/
LOCATION:MFC Dalzicht
END:VEVENT
BEGIN:VEVENT
DTSTART;TZID=Europe/Amsterdam:20180528T180000
DTEND;TZID=Europe/Amsterdam:20180528T190000
DTSTAMP:20260422T010618
CREATED:20180203T174112Z
LAST-MODIFIED:20180203T174112Z
UID:2723-1527530400-1527534000@oldemarkt.info
SUMMARY:Avond4daagse
DESCRIPTION:
URL:https://oldemarkt.info/event/avond4daagse/
END:VEVENT
BEGIN:VEVENT
DTSTART;TZID=Europe/Amsterdam:20180529T193000
DTEND;TZID=Europe/Amsterdam:20180529T220000
DTSTAMP:20260422T010618
CREATED:20171229T201414Z
LAST-MODIFIED:20171229T201414Z
UID:2475-1527622200-1527631200@oldemarkt.info
SUMMARY:Shantyavond
DESCRIPTION:
URL:https://oldemarkt.info/event/shantyavond/
LOCATION:De Landerijen\, De Weeren 1\, Oldemarkt\, Overijssel\, 8375 CD\, Nederland
END:VEVENT
BEGIN:VEVENT
DTSTART;TZID=Europe/Amsterdam:20180531T193000
DTEND;TZID=Europe/Amsterdam:20180531T214500
DTSTAMP:20260422T010618
CREATED:20180523T203617Z
LAST-MODIFIED:20180523T203617Z
UID:2951-1527795000-1527803100@oldemarkt.info
SUMMARY:Vollenhoofs Visserskoor
DESCRIPTION:
URL:https://oldemarkt.info/event/vollenhoofs-visserskoor/
LOCATION:De Eikenhof
END:VEVENT
END:VCALENDAR