
BEGIN:VCALENDAR
VERSION:2.0
PRODID:-//Oldemarkt een prachtige ontdekking - ECPv6.15.15//NONSGML v1.0//EN
CALSCALE:GREGORIAN
METHOD:PUBLISH
X-WR-CALNAME:Oldemarkt een prachtige ontdekking
X-ORIGINAL-URL:https://oldemarkt.info
X-WR-CALDESC:Evenementen voor Oldemarkt een prachtige ontdekking
REFRESH-INTERVAL;VALUE=DURATION:PT1H
X-Robots-Tag:noindex
X-PUBLISHED-TTL:PT1H
BEGIN:VTIMEZONE
TZID:Europe/Amsterdam
BEGIN:DAYLIGHT
TZOFFSETFROM:+0100
TZOFFSETTO:+0200
TZNAME:CEST
DTSTART:20180325T010000
END:DAYLIGHT
BEGIN:STANDARD
TZOFFSETFROM:+0200
TZOFFSETTO:+0100
TZNAME:CET
DTSTART:20181028T010000
END:STANDARD
BEGIN:DAYLIGHT
TZOFFSETFROM:+0100
TZOFFSETTO:+0200
TZNAME:CEST
DTSTART:20190331T010000
END:DAYLIGHT
BEGIN:STANDARD
TZOFFSETFROM:+0200
TZOFFSETTO:+0100
TZNAME:CET
DTSTART:20191027T010000
END:STANDARD
BEGIN:DAYLIGHT
TZOFFSETFROM:+0100
TZOFFSETTO:+0200
TZNAME:CEST
DTSTART:20200329T010000
END:DAYLIGHT
BEGIN:STANDARD
TZOFFSETFROM:+0200
TZOFFSETTO:+0100
TZNAME:CET
DTSTART:20201025T010000
END:STANDARD
END:VTIMEZONE
BEGIN:VEVENT
DTSTART;TZID=Europe/Amsterdam:20190912T100000
DTEND;TZID=Europe/Amsterdam:20190914T210000
DTSTAMP:20260425T021218
CREATED:20190127T195731Z
LAST-MODIFIED:20190127T195732Z
UID:3667-1568282400-1568494800@oldemarkt.info
SUMMARY:Oldemarkter Feest
DESCRIPTION:
URL:https://oldemarkt.info/event/oldemarkter-feest-4/
LOCATION:Evenemententerrein
END:VEVENT
BEGIN:VEVENT
DTSTART;TZID=Europe/Amsterdam:20190919T090000
DTEND;TZID=Europe/Amsterdam:20190919T120000
DTSTAMP:20260425T021218
CREATED:20190902T070612Z
LAST-MODIFIED:20190902T070612Z
UID:4058-1568883600-1568894400@oldemarkt.info
SUMMARY:WiWa Wandeling
DESCRIPTION:Waar we gaan lopen is nog even een verrassing maar voor een ieder die mee wil lopen: Verzamelen  uiterlijk om 9 uur bij de Roomskatholieke kerk in Oldemarkt!.
URL:https://oldemarkt.info/event/wiwa-wandeling-5/
LOCATION:RK Kerk
END:VEVENT
BEGIN:VEVENT
DTSTART;TZID=Europe/Amsterdam:20190928T143000
DTEND;TZID=Europe/Amsterdam:20190928T170000
DTSTAMP:20260425T021218
CREATED:20181124T200417Z
LAST-MODIFIED:20181124T200417Z
UID:3447-1569681000-1569690000@oldemarkt.info
SUMMARY:Soos 50+ ers
DESCRIPTION:
URL:https://oldemarkt.info/event/soos-50-ers-9-2019-09-28/
LOCATION:De Landerijen\, De Weeren 1\, Oldemarkt\, Overijssel\, 8375 CD\, Nederland
END:VEVENT
BEGIN:VEVENT
DTSTART;TZID=Europe/Amsterdam:20190930T200000
DTEND;TZID=Europe/Amsterdam:20190930T220000
DTSTAMP:20260425T021218
CREATED:20190923T130845Z
LAST-MODIFIED:20190923T130845Z
UID:4077-1569873600-1569880800@oldemarkt.info
SUMMARY:Bijeenkomst van Passage\, chr. maatsch. vrouwenbeweging\, Oldemarkt-Paasloo: Sociaal Werk De Kop
DESCRIPTION:Plaats:  ”De Ontmoeting”\, Marktplein 9\, 8375 AZ Oldemarkt. Aanvang: 20.00 uur. \nInlichtingen bij: Vrouwkje Visserman-Winters\,  telefoon 0561-451933 \nemail: vrouwkje.visserman@gmail.com
URL:https://oldemarkt.info/event/bijeenkomst-van-passage-chr-maatsch-vrouwenbeweging-oldemarkt-paasloo-sociaal-werk-de-kop/
LOCATION:De Ontmoeting
END:VEVENT
END:VCALENDAR